BEGIN:VCALENDAR
VERSION:2.0
PRODID:-//Wythall Community Association and Park - ECPv6.15.20//NONSGML v1.0//EN
CALSCALE:GREGORIAN
METHOD:PUBLISH
X-ORIGINAL-URL:https://wythall-park.org.uk
X-WR-CALDESC:Events for Wythall Community Association and Park
REFRESH-INTERVAL;VALUE=DURATION:PT1H
X-Robots-Tag:noindex
X-PUBLISHED-TTL:PT1H
BEGIN:VTIMEZONE
TZID:Europe/London
BEGIN:DAYLIGHT
TZOFFSETFROM:+0000
TZOFFSETTO:+0100
TZNAME:BST
DTSTART:20230326T010000
END:DAYLIGHT
BEGIN:STANDARD
TZOFFSETFROM:+0100
TZOFFSETTO:+0000
TZNAME:GMT
DTSTART:20231029T010000
END:STANDARD
BEGIN:DAYLIGHT
TZOFFSETFROM:+0000
TZOFFSETTO:+0100
TZNAME:BST
DTSTART:20240331T010000
END:DAYLIGHT
BEGIN:STANDARD
TZOFFSETFROM:+0100
TZOFFSETTO:+0000
TZNAME:GMT
DTSTART:20241027T010000
END:STANDARD
BEGIN:DAYLIGHT
TZOFFSETFROM:+0000
TZOFFSETTO:+0100
TZNAME:BST
DTSTART:20250330T010000
END:DAYLIGHT
BEGIN:STANDARD
TZOFFSETFROM:+0100
TZOFFSETTO:+0000
TZNAME:GMT
DTSTART:20251026T010000
END:STANDARD
BEGIN:DAYLIGHT
TZOFFSETFROM:+0000
TZOFFSETTO:+0100
TZNAME:BST
DTSTART:20260329T010000
END:DAYLIGHT
BEGIN:STANDARD
TZOFFSETFROM:+0100
TZOFFSETTO:+0000
TZNAME:GMT
DTSTART:20261025T010000
END:STANDARD
END:VTIMEZONE
BEGIN:VEVENT
DTSTART;TZID=Europe/London:20250607T120000
DTEND;TZID=Europe/London:20250607T170000
DTSTAMP:20260422T192305
CREATED:20250520T171210Z
LAST-MODIFIED:20250527T145802Z
UID:10002805-1749297600-1749315600@wythall-park.org.uk
SUMMARY:Summer Craft Fair 2025
DESCRIPTION:For the third year\, Wythall & Hollywood Country Market are hosting a Summer Craft Fair in and around Park Hall. \nThere will be a cornucopia of high quality\, hand-made craft goods\, both from Country Market members and from the wider craft community. \nRefreshments will be available\, alongside home-baked food items for a special treat. \nPark Hall is right alongside the kids playground\, so they will enjoy themselves too. \nEntrance is free. \nFor more information email: whcountrymarket@gmail.com
URL:https://wythall-park.org.uk/event/summer-craft-fair-2025/
LOCATION:Park Hall\, 52 Silver Street\, Wythall\, Birmingham\, West Midlands\, B47 6LZ\, United Kingdom
CATEGORIES:Park Hall
ORGANIZER;CN="Wythall & Hollywood Country Market":MAILTO:whcountrymarket@gmail.com
END:VEVENT
BEGIN:VEVENT
DTSTART;TZID=Europe/London:20240601T120000
DTEND;TZID=Europe/London:20240601T170000
DTSTAMP:20260422T192305
CREATED:20240522T164750Z
LAST-MODIFIED:20240522T165145Z
UID:10002140-1717243200-1717261200@wythall-park.org.uk
SUMMARY:Summer Craft Fair
DESCRIPTION:Summer Craft Fair at Wythall Park \nBuilding on the success of last year’s event we are holding the Summer Craft Fair again. \nIt will be in Park Hall\, Wythall Park\, from 12 midday – 5pm on Saturday 1st June 2024. \nWe expect 40+ stalls spanning a huge range of creative endeavours. \nFood & refreshments will be provided by Wythall & Hollywood Country Market\, the organisers of this event. \nEntry is free for visitors. \nSee pictures of last year’s fair HERE
URL:https://wythall-park.org.uk/event/summer-craft-fair/
LOCATION:Park Hall\, 52 Silver Street\, Wythall\, Birmingham\, West Midlands\, B47 6LZ\, United Kingdom
CATEGORIES:Park Hall
ORGANIZER;CN="Wythall & Hollywood Country Market":MAILTO:whcountrymarket@gmail.com
END:VEVENT
END:VCALENDAR