BEGIN:VCALENDAR
VERSION:2.0
PRODID:-//Wythall Community Association and Park - ECPv6.15.20//NONSGML v1.0//EN
CALSCALE:GREGORIAN
METHOD:PUBLISH
X-ORIGINAL-URL:https://wythall-park.org.uk
X-WR-CALDESC:Events for Wythall Community Association and Park
REFRESH-INTERVAL;VALUE=DURATION:PT1H
X-Robots-Tag:noindex
X-PUBLISHED-TTL:PT1H
BEGIN:VTIMEZONE
TZID:Europe/London
BEGIN:DAYLIGHT
TZOFFSETFROM:+0000
TZOFFSETTO:+0100
TZNAME:BST
DTSTART:20230326T010000
END:DAYLIGHT
BEGIN:STANDARD
TZOFFSETFROM:+0100
TZOFFSETTO:+0000
TZNAME:GMT
DTSTART:20231029T010000
END:STANDARD
BEGIN:DAYLIGHT
TZOFFSETFROM:+0000
TZOFFSETTO:+0100
TZNAME:BST
DTSTART:20240331T010000
END:DAYLIGHT
BEGIN:STANDARD
TZOFFSETFROM:+0100
TZOFFSETTO:+0000
TZNAME:GMT
DTSTART:20241027T010000
END:STANDARD
BEGIN:DAYLIGHT
TZOFFSETFROM:+0000
TZOFFSETTO:+0100
TZNAME:BST
DTSTART:20250330T010000
END:DAYLIGHT
BEGIN:STANDARD
TZOFFSETFROM:+0100
TZOFFSETTO:+0000
TZNAME:GMT
DTSTART:20251026T010000
END:STANDARD
END:VTIMEZONE
BEGIN:VEVENT
DTSTART;TZID=Europe/London:20240713T170000
DTEND;TZID=Europe/London:20240713T213000
DTSTAMP:20260421T151820
CREATED:20240705T140908Z
LAST-MODIFIED:20240705T140908Z
UID:10002144-1720890000-1720906200@wythall-park.org.uk
SUMMARY:Dirty Donkey Pizzeria
DESCRIPTION:Dirty Donkey\, founded by four friends\, offers a premium Pizzeria service with high-class hospitality in and around the Midlands\, UK\, operating out of our fleet of two self-converted Horse Trailers! We use the highest quality\, award winning Neapolitan sourdough\, to create sizzling artisan Pizzas. \nP I Z Z A  M E N U \nMargherita\nItalian Mozzarella\, imported Plum Tomatoes & fresh Basil. \nPepperoni\nItalian Mozzarella\, imported Plum Tomatoes\, Pepperoni & Chilli oil. \nThe Dirty Donkey\nSmoked Bacon\, Pepperoni\, Spanish Chorizo\, Roasted Pepper\, Red Onion & our in-house sauce. \nEl Picante\nSpanish Chorizo\, Roasted Pepper\, Jalapeños & Chilli oil. \nVegetariana\nRed Onion\, Roasted Pepper\, Mushroom\, fresh Basil & Garlic oil. \nFunghi\nMushroom\, fresh Rocket\, Parmigiano Reggiano & Garlic oil. \nCanadian\nSmoked Bacon & Canadian Maple Syrup. \nWe have gluten free\, lactose free\, vegetarian & vegan options available. Please make staff aware of any allergens or dietary requirements before ordering.
URL:https://wythall-park.org.uk/event/dirty-donkey-pizzeria/
LOCATION:Wythall Park\, 52 Silver Street\, Wythall\, Birmingham\, West Midlands\, B47 6LZ\, United Kingdom
CATEGORIES:Wythall Park
ORGANIZER;CN="Dirty Donkey Pizzaria":MAILTO:bookings@dirtydonkeyltd.co.uk
END:VEVENT
END:VCALENDAR