BEGIN:VCALENDAR
VERSION:2.0
PRODID:-//Wythall Community Association and Park - ECPv6.15.20//NONSGML v1.0//EN
CALSCALE:GREGORIAN
METHOD:PUBLISH
X-WR-CALNAME:Wythall Community Association and Park
X-ORIGINAL-URL:https://wythall-park.org.uk
X-WR-CALDESC:Events for Wythall Community Association and Park
REFRESH-INTERVAL;VALUE=DURATION:PT1H
X-Robots-Tag:noindex
X-PUBLISHED-TTL:PT1H
BEGIN:VTIMEZONE
TZID:Europe/London
BEGIN:DAYLIGHT
TZOFFSETFROM:+0000
TZOFFSETTO:+0100
TZNAME:BST
DTSTART:20250330T010000
END:DAYLIGHT
BEGIN:STANDARD
TZOFFSETFROM:+0100
TZOFFSETTO:+0000
TZNAME:GMT
DTSTART:20251026T010000
END:STANDARD
BEGIN:DAYLIGHT
TZOFFSETFROM:+0000
TZOFFSETTO:+0100
TZNAME:BST
DTSTART:20260329T010000
END:DAYLIGHT
BEGIN:STANDARD
TZOFFSETFROM:+0100
TZOFFSETTO:+0000
TZNAME:GMT
DTSTART:20261025T010000
END:STANDARD
BEGIN:DAYLIGHT
TZOFFSETFROM:+0000
TZOFFSETTO:+0100
TZNAME:BST
DTSTART:20270328T010000
END:DAYLIGHT
BEGIN:STANDARD
TZOFFSETFROM:+0100
TZOFFSETTO:+0000
TZNAME:GMT
DTSTART:20271031T010000
END:STANDARD
BEGIN:DAYLIGHT
TZOFFSETFROM:+0000
TZOFFSETTO:+0100
TZNAME:BST
DTSTART:20280326T010000
END:DAYLIGHT
BEGIN:STANDARD
TZOFFSETFROM:+0100
TZOFFSETTO:+0000
TZNAME:GMT
DTSTART:20281029T010000
END:STANDARD
END:VTIMEZONE
BEGIN:VEVENT
DTSTART;TZID=Europe/London:20261230T170000
DTEND;TZID=Europe/London:20261230T190000
DTSTAMP:20260419T195524
CREATED:20240406T122435Z
LAST-MODIFIED:20240406T122435Z
UID:10001179-1798650000-1798657200@wythall-park.org.uk
SUMMARY:Slimming World
DESCRIPTION:If you’re thinking of joining us\, don’t miss out! Feel free to drop in\, you don’t have to book in advance\, just come along at the advertised time. \nGroup times\n\n\nWednesday weekly – 17:00 to 19:00 \nSpecial Offer – save £5 when you join up. \nSee some of our amazing attendees and their stories here.
URL:https://wythall-park.org.uk/event/slimming-world/2026-12-30/
LOCATION:Britannia Room\, Wythall Community Club\, 52 Silver Street\, Wythall\, Birmingham\, West Midlands\, B47 6LZ\, United Kingdom
CATEGORIES:Britannia Room
ATTACH;FMTTYPE=image/png:https://wythall-park.org.uk/wp-content/uploads/2024/04/slimming_world.png
END:VEVENT
BEGIN:VEVENT
DTSTART;TZID=Europe/London:20270106T170000
DTEND;TZID=Europe/London:20270106T190000
DTSTAMP:20260419T195524
CREATED:20240406T122435Z
LAST-MODIFIED:20240406T122435Z
UID:10001180-1799254800-1799262000@wythall-park.org.uk
SUMMARY:Slimming World
DESCRIPTION:If you’re thinking of joining us\, don’t miss out! Feel free to drop in\, you don’t have to book in advance\, just come along at the advertised time. \nGroup times\n\n\nWednesday weekly – 17:00 to 19:00 \nSpecial Offer – save £5 when you join up. \nSee some of our amazing attendees and their stories here.
URL:https://wythall-park.org.uk/event/slimming-world/2027-01-06/
LOCATION:Britannia Room\, Wythall Community Club\, 52 Silver Street\, Wythall\, Birmingham\, West Midlands\, B47 6LZ\, United Kingdom
CATEGORIES:Britannia Room
ATTACH;FMTTYPE=image/png:https://wythall-park.org.uk/wp-content/uploads/2024/04/slimming_world.png
END:VEVENT
BEGIN:VEVENT
DTSTART;TZID=Europe/London:20270113T170000
DTEND;TZID=Europe/London:20270113T190000
DTSTAMP:20260419T195524
CREATED:20240406T122435Z
LAST-MODIFIED:20240406T122435Z
UID:10001181-1799859600-1799866800@wythall-park.org.uk
SUMMARY:Slimming World
DESCRIPTION:If you’re thinking of joining us\, don’t miss out! Feel free to drop in\, you don’t have to book in advance\, just come along at the advertised time. \nGroup times\n\n\nWednesday weekly – 17:00 to 19:00 \nSpecial Offer – save £5 when you join up. \nSee some of our amazing attendees and their stories here.
URL:https://wythall-park.org.uk/event/slimming-world/2027-01-13/
LOCATION:Britannia Room\, Wythall Community Club\, 52 Silver Street\, Wythall\, Birmingham\, West Midlands\, B47 6LZ\, United Kingdom
CATEGORIES:Britannia Room
ATTACH;FMTTYPE=image/png:https://wythall-park.org.uk/wp-content/uploads/2024/04/slimming_world.png
END:VEVENT
BEGIN:VEVENT
DTSTART;TZID=Europe/London:20270120T170000
DTEND;TZID=Europe/London:20270120T190000
DTSTAMP:20260419T195524
CREATED:20240406T122435Z
LAST-MODIFIED:20240406T122435Z
UID:10001182-1800464400-1800471600@wythall-park.org.uk
SUMMARY:Slimming World
DESCRIPTION:If you’re thinking of joining us\, don’t miss out! Feel free to drop in\, you don’t have to book in advance\, just come along at the advertised time. \nGroup times\n\n\nWednesday weekly – 17:00 to 19:00 \nSpecial Offer – save £5 when you join up. \nSee some of our amazing attendees and their stories here.
URL:https://wythall-park.org.uk/event/slimming-world/2027-01-20/
LOCATION:Britannia Room\, Wythall Community Club\, 52 Silver Street\, Wythall\, Birmingham\, West Midlands\, B47 6LZ\, United Kingdom
CATEGORIES:Britannia Room
ATTACH;FMTTYPE=image/png:https://wythall-park.org.uk/wp-content/uploads/2024/04/slimming_world.png
END:VEVENT
BEGIN:VEVENT
DTSTART;TZID=Europe/London:20270127T170000
DTEND;TZID=Europe/London:20270127T190000
DTSTAMP:20260419T195524
CREATED:20240406T122435Z
LAST-MODIFIED:20240406T122435Z
UID:10001183-1801069200-1801076400@wythall-park.org.uk
SUMMARY:Slimming World
DESCRIPTION:If you’re thinking of joining us\, don’t miss out! Feel free to drop in\, you don’t have to book in advance\, just come along at the advertised time. \nGroup times\n\n\nWednesday weekly – 17:00 to 19:00 \nSpecial Offer – save £5 when you join up. \nSee some of our amazing attendees and their stories here.
URL:https://wythall-park.org.uk/event/slimming-world/2027-01-27/
LOCATION:Britannia Room\, Wythall Community Club\, 52 Silver Street\, Wythall\, Birmingham\, West Midlands\, B47 6LZ\, United Kingdom
CATEGORIES:Britannia Room
ATTACH;FMTTYPE=image/png:https://wythall-park.org.uk/wp-content/uploads/2024/04/slimming_world.png
END:VEVENT
BEGIN:VEVENT
DTSTART;TZID=Europe/London:20270203T170000
DTEND;TZID=Europe/London:20270203T190000
DTSTAMP:20260419T195524
CREATED:20240406T122435Z
LAST-MODIFIED:20240406T122435Z
UID:10001184-1801674000-1801681200@wythall-park.org.uk
SUMMARY:Slimming World
DESCRIPTION:If you’re thinking of joining us\, don’t miss out! Feel free to drop in\, you don’t have to book in advance\, just come along at the advertised time. \nGroup times\n\n\nWednesday weekly – 17:00 to 19:00 \nSpecial Offer – save £5 when you join up. \nSee some of our amazing attendees and their stories here.
URL:https://wythall-park.org.uk/event/slimming-world/2027-02-03/
LOCATION:Britannia Room\, Wythall Community Club\, 52 Silver Street\, Wythall\, Birmingham\, West Midlands\, B47 6LZ\, United Kingdom
CATEGORIES:Britannia Room
ATTACH;FMTTYPE=image/png:https://wythall-park.org.uk/wp-content/uploads/2024/04/slimming_world.png
END:VEVENT
BEGIN:VEVENT
DTSTART;TZID=Europe/London:20270210T170000
DTEND;TZID=Europe/London:20270210T190000
DTSTAMP:20260419T195524
CREATED:20240406T122435Z
LAST-MODIFIED:20240406T122435Z
UID:10001185-1802278800-1802286000@wythall-park.org.uk
SUMMARY:Slimming World
DESCRIPTION:If you’re thinking of joining us\, don’t miss out! Feel free to drop in\, you don’t have to book in advance\, just come along at the advertised time. \nGroup times\n\n\nWednesday weekly – 17:00 to 19:00 \nSpecial Offer – save £5 when you join up. \nSee some of our amazing attendees and their stories here.
URL:https://wythall-park.org.uk/event/slimming-world/2027-02-10/
LOCATION:Britannia Room\, Wythall Community Club\, 52 Silver Street\, Wythall\, Birmingham\, West Midlands\, B47 6LZ\, United Kingdom
CATEGORIES:Britannia Room
ATTACH;FMTTYPE=image/png:https://wythall-park.org.uk/wp-content/uploads/2024/04/slimming_world.png
END:VEVENT
BEGIN:VEVENT
DTSTART;TZID=Europe/London:20270217T170000
DTEND;TZID=Europe/London:20270217T190000
DTSTAMP:20260419T195524
CREATED:20240406T122435Z
LAST-MODIFIED:20240406T122435Z
UID:10001186-1802883600-1802890800@wythall-park.org.uk
SUMMARY:Slimming World
DESCRIPTION:If you’re thinking of joining us\, don’t miss out! Feel free to drop in\, you don’t have to book in advance\, just come along at the advertised time. \nGroup times\n\n\nWednesday weekly – 17:00 to 19:00 \nSpecial Offer – save £5 when you join up. \nSee some of our amazing attendees and their stories here.
URL:https://wythall-park.org.uk/event/slimming-world/2027-02-17/
LOCATION:Britannia Room\, Wythall Community Club\, 52 Silver Street\, Wythall\, Birmingham\, West Midlands\, B47 6LZ\, United Kingdom
CATEGORIES:Britannia Room
ATTACH;FMTTYPE=image/png:https://wythall-park.org.uk/wp-content/uploads/2024/04/slimming_world.png
END:VEVENT
BEGIN:VEVENT
DTSTART;TZID=Europe/London:20270224T170000
DTEND;TZID=Europe/London:20270224T190000
DTSTAMP:20260419T195524
CREATED:20240406T122435Z
LAST-MODIFIED:20240406T122435Z
UID:10001187-1803488400-1803495600@wythall-park.org.uk
SUMMARY:Slimming World
DESCRIPTION:If you’re thinking of joining us\, don’t miss out! Feel free to drop in\, you don’t have to book in advance\, just come along at the advertised time. \nGroup times\n\n\nWednesday weekly – 17:00 to 19:00 \nSpecial Offer – save £5 when you join up. \nSee some of our amazing attendees and their stories here.
URL:https://wythall-park.org.uk/event/slimming-world/2027-02-24/
LOCATION:Britannia Room\, Wythall Community Club\, 52 Silver Street\, Wythall\, Birmingham\, West Midlands\, B47 6LZ\, United Kingdom
CATEGORIES:Britannia Room
ATTACH;FMTTYPE=image/png:https://wythall-park.org.uk/wp-content/uploads/2024/04/slimming_world.png
END:VEVENT
BEGIN:VEVENT
DTSTART;TZID=Europe/London:20270303T170000
DTEND;TZID=Europe/London:20270303T190000
DTSTAMP:20260419T195524
CREATED:20240406T122435Z
LAST-MODIFIED:20240406T122435Z
UID:10001188-1804093200-1804100400@wythall-park.org.uk
SUMMARY:Slimming World
DESCRIPTION:If you’re thinking of joining us\, don’t miss out! Feel free to drop in\, you don’t have to book in advance\, just come along at the advertised time. \nGroup times\n\n\nWednesday weekly – 17:00 to 19:00 \nSpecial Offer – save £5 when you join up. \nSee some of our amazing attendees and their stories here.
URL:https://wythall-park.org.uk/event/slimming-world/2027-03-03/
LOCATION:Britannia Room\, Wythall Community Club\, 52 Silver Street\, Wythall\, Birmingham\, West Midlands\, B47 6LZ\, United Kingdom
CATEGORIES:Britannia Room
ATTACH;FMTTYPE=image/png:https://wythall-park.org.uk/wp-content/uploads/2024/04/slimming_world.png
END:VEVENT
BEGIN:VEVENT
DTSTART;TZID=Europe/London:20270310T170000
DTEND;TZID=Europe/London:20270310T190000
DTSTAMP:20260419T195524
CREATED:20240406T122435Z
LAST-MODIFIED:20240406T122435Z
UID:10001189-1804698000-1804705200@wythall-park.org.uk
SUMMARY:Slimming World
DESCRIPTION:If you’re thinking of joining us\, don’t miss out! Feel free to drop in\, you don’t have to book in advance\, just come along at the advertised time. \nGroup times\n\n\nWednesday weekly – 17:00 to 19:00 \nSpecial Offer – save £5 when you join up. \nSee some of our amazing attendees and their stories here.
URL:https://wythall-park.org.uk/event/slimming-world/2027-03-10/
LOCATION:Britannia Room\, Wythall Community Club\, 52 Silver Street\, Wythall\, Birmingham\, West Midlands\, B47 6LZ\, United Kingdom
CATEGORIES:Britannia Room
ATTACH;FMTTYPE=image/png:https://wythall-park.org.uk/wp-content/uploads/2024/04/slimming_world.png
END:VEVENT
BEGIN:VEVENT
DTSTART;TZID=Europe/London:20270317T170000
DTEND;TZID=Europe/London:20270317T190000
DTSTAMP:20260419T195524
CREATED:20240406T122435Z
LAST-MODIFIED:20240406T122435Z
UID:10001190-1805302800-1805310000@wythall-park.org.uk
SUMMARY:Slimming World
DESCRIPTION:If you’re thinking of joining us\, don’t miss out! Feel free to drop in\, you don’t have to book in advance\, just come along at the advertised time. \nGroup times\n\n\nWednesday weekly – 17:00 to 19:00 \nSpecial Offer – save £5 when you join up. \nSee some of our amazing attendees and their stories here.
URL:https://wythall-park.org.uk/event/slimming-world/2027-03-17/
LOCATION:Britannia Room\, Wythall Community Club\, 52 Silver Street\, Wythall\, Birmingham\, West Midlands\, B47 6LZ\, United Kingdom
CATEGORIES:Britannia Room
ATTACH;FMTTYPE=image/png:https://wythall-park.org.uk/wp-content/uploads/2024/04/slimming_world.png
END:VEVENT
BEGIN:VEVENT
DTSTART;TZID=Europe/London:20270324T170000
DTEND;TZID=Europe/London:20270324T190000
DTSTAMP:20260419T195524
CREATED:20240406T122435Z
LAST-MODIFIED:20240406T122435Z
UID:10001191-1805907600-1805914800@wythall-park.org.uk
SUMMARY:Slimming World
DESCRIPTION:If you’re thinking of joining us\, don’t miss out! Feel free to drop in\, you don’t have to book in advance\, just come along at the advertised time. \nGroup times\n\n\nWednesday weekly – 17:00 to 19:00 \nSpecial Offer – save £5 when you join up. \nSee some of our amazing attendees and their stories here.
URL:https://wythall-park.org.uk/event/slimming-world/2027-03-24/
LOCATION:Britannia Room\, Wythall Community Club\, 52 Silver Street\, Wythall\, Birmingham\, West Midlands\, B47 6LZ\, United Kingdom
CATEGORIES:Britannia Room
ATTACH;FMTTYPE=image/png:https://wythall-park.org.uk/wp-content/uploads/2024/04/slimming_world.png
END:VEVENT
BEGIN:VEVENT
DTSTART;TZID=Europe/London:20270331T170000
DTEND;TZID=Europe/London:20270331T190000
DTSTAMP:20260419T195524
CREATED:20240406T122435Z
LAST-MODIFIED:20240406T122435Z
UID:10001192-1806512400-1806519600@wythall-park.org.uk
SUMMARY:Slimming World
DESCRIPTION:If you’re thinking of joining us\, don’t miss out! Feel free to drop in\, you don’t have to book in advance\, just come along at the advertised time. \nGroup times\n\n\nWednesday weekly – 17:00 to 19:00 \nSpecial Offer – save £5 when you join up. \nSee some of our amazing attendees and their stories here.
URL:https://wythall-park.org.uk/event/slimming-world/2027-03-31/
LOCATION:Britannia Room\, Wythall Community Club\, 52 Silver Street\, Wythall\, Birmingham\, West Midlands\, B47 6LZ\, United Kingdom
CATEGORIES:Britannia Room
ATTACH;FMTTYPE=image/png:https://wythall-park.org.uk/wp-content/uploads/2024/04/slimming_world.png
END:VEVENT
BEGIN:VEVENT
DTSTART;TZID=Europe/London:20270407T170000
DTEND;TZID=Europe/London:20270407T190000
DTSTAMP:20260419T195524
CREATED:20240406T122435Z
LAST-MODIFIED:20240406T122435Z
UID:10001193-1807117200-1807124400@wythall-park.org.uk
SUMMARY:Slimming World
DESCRIPTION:If you’re thinking of joining us\, don’t miss out! Feel free to drop in\, you don’t have to book in advance\, just come along at the advertised time. \nGroup times\n\n\nWednesday weekly – 17:00 to 19:00 \nSpecial Offer – save £5 when you join up. \nSee some of our amazing attendees and their stories here.
URL:https://wythall-park.org.uk/event/slimming-world/2027-04-07/
LOCATION:Britannia Room\, Wythall Community Club\, 52 Silver Street\, Wythall\, Birmingham\, West Midlands\, B47 6LZ\, United Kingdom
CATEGORIES:Britannia Room
ATTACH;FMTTYPE=image/png:https://wythall-park.org.uk/wp-content/uploads/2024/04/slimming_world.png
END:VEVENT
BEGIN:VEVENT
DTSTART;TZID=Europe/London:20270414T170000
DTEND;TZID=Europe/London:20270414T190000
DTSTAMP:20260419T195524
CREATED:20240406T122435Z
LAST-MODIFIED:20240406T122435Z
UID:10001194-1807722000-1807729200@wythall-park.org.uk
SUMMARY:Slimming World
DESCRIPTION:If you’re thinking of joining us\, don’t miss out! Feel free to drop in\, you don’t have to book in advance\, just come along at the advertised time. \nGroup times\n\n\nWednesday weekly – 17:00 to 19:00 \nSpecial Offer – save £5 when you join up. \nSee some of our amazing attendees and their stories here.
URL:https://wythall-park.org.uk/event/slimming-world/2027-04-14/
LOCATION:Britannia Room\, Wythall Community Club\, 52 Silver Street\, Wythall\, Birmingham\, West Midlands\, B47 6LZ\, United Kingdom
CATEGORIES:Britannia Room
ATTACH;FMTTYPE=image/png:https://wythall-park.org.uk/wp-content/uploads/2024/04/slimming_world.png
END:VEVENT
BEGIN:VEVENT
DTSTART;TZID=Europe/London:20270421T170000
DTEND;TZID=Europe/London:20270421T190000
DTSTAMP:20260419T195524
CREATED:20240406T122435Z
LAST-MODIFIED:20240406T122435Z
UID:10001195-1808326800-1808334000@wythall-park.org.uk
SUMMARY:Slimming World
DESCRIPTION:If you’re thinking of joining us\, don’t miss out! Feel free to drop in\, you don’t have to book in advance\, just come along at the advertised time. \nGroup times\n\n\nWednesday weekly – 17:00 to 19:00 \nSpecial Offer – save £5 when you join up. \nSee some of our amazing attendees and their stories here.
URL:https://wythall-park.org.uk/event/slimming-world/2027-04-21/
LOCATION:Britannia Room\, Wythall Community Club\, 52 Silver Street\, Wythall\, Birmingham\, West Midlands\, B47 6LZ\, United Kingdom
CATEGORIES:Britannia Room
ATTACH;FMTTYPE=image/png:https://wythall-park.org.uk/wp-content/uploads/2024/04/slimming_world.png
END:VEVENT
BEGIN:VEVENT
DTSTART;TZID=Europe/London:20270428T170000
DTEND;TZID=Europe/London:20270428T190000
DTSTAMP:20260419T195524
CREATED:20240406T122435Z
LAST-MODIFIED:20240406T122435Z
UID:10001196-1808931600-1808938800@wythall-park.org.uk
SUMMARY:Slimming World
DESCRIPTION:If you’re thinking of joining us\, don’t miss out! Feel free to drop in\, you don’t have to book in advance\, just come along at the advertised time. \nGroup times\n\n\nWednesday weekly – 17:00 to 19:00 \nSpecial Offer – save £5 when you join up. \nSee some of our amazing attendees and their stories here.
URL:https://wythall-park.org.uk/event/slimming-world/2027-04-28/
LOCATION:Britannia Room\, Wythall Community Club\, 52 Silver Street\, Wythall\, Birmingham\, West Midlands\, B47 6LZ\, United Kingdom
CATEGORIES:Britannia Room
ATTACH;FMTTYPE=image/png:https://wythall-park.org.uk/wp-content/uploads/2024/04/slimming_world.png
END:VEVENT
BEGIN:VEVENT
DTSTART;TZID=Europe/London:20270505T170000
DTEND;TZID=Europe/London:20270505T190000
DTSTAMP:20260419T195524
CREATED:20240406T122435Z
LAST-MODIFIED:20240406T122435Z
UID:10001197-1809536400-1809543600@wythall-park.org.uk
SUMMARY:Slimming World
DESCRIPTION:If you’re thinking of joining us\, don’t miss out! Feel free to drop in\, you don’t have to book in advance\, just come along at the advertised time. \nGroup times\n\n\nWednesday weekly – 17:00 to 19:00 \nSpecial Offer – save £5 when you join up. \nSee some of our amazing attendees and their stories here.
URL:https://wythall-park.org.uk/event/slimming-world/2027-05-05/
LOCATION:Britannia Room\, Wythall Community Club\, 52 Silver Street\, Wythall\, Birmingham\, West Midlands\, B47 6LZ\, United Kingdom
CATEGORIES:Britannia Room
ATTACH;FMTTYPE=image/png:https://wythall-park.org.uk/wp-content/uploads/2024/04/slimming_world.png
END:VEVENT
BEGIN:VEVENT
DTSTART;TZID=Europe/London:20270512T170000
DTEND;TZID=Europe/London:20270512T190000
DTSTAMP:20260419T195524
CREATED:20240406T122435Z
LAST-MODIFIED:20240406T122435Z
UID:10001198-1810141200-1810148400@wythall-park.org.uk
SUMMARY:Slimming World
DESCRIPTION:If you’re thinking of joining us\, don’t miss out! Feel free to drop in\, you don’t have to book in advance\, just come along at the advertised time. \nGroup times\n\n\nWednesday weekly – 17:00 to 19:00 \nSpecial Offer – save £5 when you join up. \nSee some of our amazing attendees and their stories here.
URL:https://wythall-park.org.uk/event/slimming-world/2027-05-12/
LOCATION:Britannia Room\, Wythall Community Club\, 52 Silver Street\, Wythall\, Birmingham\, West Midlands\, B47 6LZ\, United Kingdom
CATEGORIES:Britannia Room
ATTACH;FMTTYPE=image/png:https://wythall-park.org.uk/wp-content/uploads/2024/04/slimming_world.png
END:VEVENT
BEGIN:VEVENT
DTSTART;TZID=Europe/London:20270519T170000
DTEND;TZID=Europe/London:20270519T190000
DTSTAMP:20260419T195524
CREATED:20240406T122435Z
LAST-MODIFIED:20240406T122435Z
UID:10001199-1810746000-1810753200@wythall-park.org.uk
SUMMARY:Slimming World
DESCRIPTION:If you’re thinking of joining us\, don’t miss out! Feel free to drop in\, you don’t have to book in advance\, just come along at the advertised time. \nGroup times\n\n\nWednesday weekly – 17:00 to 19:00 \nSpecial Offer – save £5 when you join up. \nSee some of our amazing attendees and their stories here.
URL:https://wythall-park.org.uk/event/slimming-world/2027-05-19/
LOCATION:Britannia Room\, Wythall Community Club\, 52 Silver Street\, Wythall\, Birmingham\, West Midlands\, B47 6LZ\, United Kingdom
CATEGORIES:Britannia Room
ATTACH;FMTTYPE=image/png:https://wythall-park.org.uk/wp-content/uploads/2024/04/slimming_world.png
END:VEVENT
BEGIN:VEVENT
DTSTART;TZID=Europe/London:20270526T170000
DTEND;TZID=Europe/London:20270526T190000
DTSTAMP:20260419T195524
CREATED:20240406T122435Z
LAST-MODIFIED:20240406T122435Z
UID:10001200-1811350800-1811358000@wythall-park.org.uk
SUMMARY:Slimming World
DESCRIPTION:If you’re thinking of joining us\, don’t miss out! Feel free to drop in\, you don’t have to book in advance\, just come along at the advertised time. \nGroup times\n\n\nWednesday weekly – 17:00 to 19:00 \nSpecial Offer – save £5 when you join up. \nSee some of our amazing attendees and their stories here.
URL:https://wythall-park.org.uk/event/slimming-world/2027-05-26/
LOCATION:Britannia Room\, Wythall Community Club\, 52 Silver Street\, Wythall\, Birmingham\, West Midlands\, B47 6LZ\, United Kingdom
CATEGORIES:Britannia Room
ATTACH;FMTTYPE=image/png:https://wythall-park.org.uk/wp-content/uploads/2024/04/slimming_world.png
END:VEVENT
BEGIN:VEVENT
DTSTART;TZID=Europe/London:20270602T170000
DTEND;TZID=Europe/London:20270602T190000
DTSTAMP:20260419T195524
CREATED:20240406T122435Z
LAST-MODIFIED:20240406T122435Z
UID:10001201-1811955600-1811962800@wythall-park.org.uk
SUMMARY:Slimming World
DESCRIPTION:If you’re thinking of joining us\, don’t miss out! Feel free to drop in\, you don’t have to book in advance\, just come along at the advertised time. \nGroup times\n\n\nWednesday weekly – 17:00 to 19:00 \nSpecial Offer – save £5 when you join up. \nSee some of our amazing attendees and their stories here.
URL:https://wythall-park.org.uk/event/slimming-world/2027-06-02/
LOCATION:Britannia Room\, Wythall Community Club\, 52 Silver Street\, Wythall\, Birmingham\, West Midlands\, B47 6LZ\, United Kingdom
CATEGORIES:Britannia Room
ATTACH;FMTTYPE=image/png:https://wythall-park.org.uk/wp-content/uploads/2024/04/slimming_world.png
END:VEVENT
BEGIN:VEVENT
DTSTART;TZID=Europe/London:20270609T170000
DTEND;TZID=Europe/London:20270609T190000
DTSTAMP:20260419T195524
CREATED:20240406T122435Z
LAST-MODIFIED:20240406T122435Z
UID:10001202-1812560400-1812567600@wythall-park.org.uk
SUMMARY:Slimming World
DESCRIPTION:If you’re thinking of joining us\, don’t miss out! Feel free to drop in\, you don’t have to book in advance\, just come along at the advertised time. \nGroup times\n\n\nWednesday weekly – 17:00 to 19:00 \nSpecial Offer – save £5 when you join up. \nSee some of our amazing attendees and their stories here.
URL:https://wythall-park.org.uk/event/slimming-world/2027-06-09/
LOCATION:Britannia Room\, Wythall Community Club\, 52 Silver Street\, Wythall\, Birmingham\, West Midlands\, B47 6LZ\, United Kingdom
CATEGORIES:Britannia Room
ATTACH;FMTTYPE=image/png:https://wythall-park.org.uk/wp-content/uploads/2024/04/slimming_world.png
END:VEVENT
BEGIN:VEVENT
DTSTART;TZID=Europe/London:20270616T170000
DTEND;TZID=Europe/London:20270616T190000
DTSTAMP:20260419T195524
CREATED:20240406T122435Z
LAST-MODIFIED:20240406T122435Z
UID:10001203-1813165200-1813172400@wythall-park.org.uk
SUMMARY:Slimming World
DESCRIPTION:If you’re thinking of joining us\, don’t miss out! Feel free to drop in\, you don’t have to book in advance\, just come along at the advertised time. \nGroup times\n\n\nWednesday weekly – 17:00 to 19:00 \nSpecial Offer – save £5 when you join up. \nSee some of our amazing attendees and their stories here.
URL:https://wythall-park.org.uk/event/slimming-world/2027-06-16/
LOCATION:Britannia Room\, Wythall Community Club\, 52 Silver Street\, Wythall\, Birmingham\, West Midlands\, B47 6LZ\, United Kingdom
CATEGORIES:Britannia Room
ATTACH;FMTTYPE=image/png:https://wythall-park.org.uk/wp-content/uploads/2024/04/slimming_world.png
END:VEVENT
BEGIN:VEVENT
DTSTART;TZID=Europe/London:20270623T170000
DTEND;TZID=Europe/London:20270623T190000
DTSTAMP:20260419T195524
CREATED:20240406T122435Z
LAST-MODIFIED:20240406T122435Z
UID:10001204-1813770000-1813777200@wythall-park.org.uk
SUMMARY:Slimming World
DESCRIPTION:If you’re thinking of joining us\, don’t miss out! Feel free to drop in\, you don’t have to book in advance\, just come along at the advertised time. \nGroup times\n\n\nWednesday weekly – 17:00 to 19:00 \nSpecial Offer – save £5 when you join up. \nSee some of our amazing attendees and their stories here.
URL:https://wythall-park.org.uk/event/slimming-world/2027-06-23/
LOCATION:Britannia Room\, Wythall Community Club\, 52 Silver Street\, Wythall\, Birmingham\, West Midlands\, B47 6LZ\, United Kingdom
CATEGORIES:Britannia Room
ATTACH;FMTTYPE=image/png:https://wythall-park.org.uk/wp-content/uploads/2024/04/slimming_world.png
END:VEVENT
BEGIN:VEVENT
DTSTART;TZID=Europe/London:20270630T170000
DTEND;TZID=Europe/London:20270630T190000
DTSTAMP:20260419T195524
CREATED:20240406T122435Z
LAST-MODIFIED:20240406T122435Z
UID:10001205-1814374800-1814382000@wythall-park.org.uk
SUMMARY:Slimming World
DESCRIPTION:If you’re thinking of joining us\, don’t miss out! Feel free to drop in\, you don’t have to book in advance\, just come along at the advertised time. \nGroup times\n\n\nWednesday weekly – 17:00 to 19:00 \nSpecial Offer – save £5 when you join up. \nSee some of our amazing attendees and their stories here.
URL:https://wythall-park.org.uk/event/slimming-world/2027-06-30/
LOCATION:Britannia Room\, Wythall Community Club\, 52 Silver Street\, Wythall\, Birmingham\, West Midlands\, B47 6LZ\, United Kingdom
CATEGORIES:Britannia Room
ATTACH;FMTTYPE=image/png:https://wythall-park.org.uk/wp-content/uploads/2024/04/slimming_world.png
END:VEVENT
BEGIN:VEVENT
DTSTART;TZID=Europe/London:20270707T170000
DTEND;TZID=Europe/London:20270707T190000
DTSTAMP:20260419T195524
CREATED:20240406T122435Z
LAST-MODIFIED:20240406T122435Z
UID:10001206-1814979600-1814986800@wythall-park.org.uk
SUMMARY:Slimming World
DESCRIPTION:If you’re thinking of joining us\, don’t miss out! Feel free to drop in\, you don’t have to book in advance\, just come along at the advertised time. \nGroup times\n\n\nWednesday weekly – 17:00 to 19:00 \nSpecial Offer – save £5 when you join up. \nSee some of our amazing attendees and their stories here.
URL:https://wythall-park.org.uk/event/slimming-world/2027-07-07/
LOCATION:Britannia Room\, Wythall Community Club\, 52 Silver Street\, Wythall\, Birmingham\, West Midlands\, B47 6LZ\, United Kingdom
CATEGORIES:Britannia Room
ATTACH;FMTTYPE=image/png:https://wythall-park.org.uk/wp-content/uploads/2024/04/slimming_world.png
END:VEVENT
BEGIN:VEVENT
DTSTART;TZID=Europe/London:20270714T170000
DTEND;TZID=Europe/London:20270714T190000
DTSTAMP:20260419T195524
CREATED:20240406T122435Z
LAST-MODIFIED:20240406T122435Z
UID:10001207-1815584400-1815591600@wythall-park.org.uk
SUMMARY:Slimming World
DESCRIPTION:If you’re thinking of joining us\, don’t miss out! Feel free to drop in\, you don’t have to book in advance\, just come along at the advertised time. \nGroup times\n\n\nWednesday weekly – 17:00 to 19:00 \nSpecial Offer – save £5 when you join up. \nSee some of our amazing attendees and their stories here.
URL:https://wythall-park.org.uk/event/slimming-world/2027-07-14/
LOCATION:Britannia Room\, Wythall Community Club\, 52 Silver Street\, Wythall\, Birmingham\, West Midlands\, B47 6LZ\, United Kingdom
CATEGORIES:Britannia Room
ATTACH;FMTTYPE=image/png:https://wythall-park.org.uk/wp-content/uploads/2024/04/slimming_world.png
END:VEVENT
BEGIN:VEVENT
DTSTART;TZID=Europe/London:20270721T170000
DTEND;TZID=Europe/London:20270721T190000
DTSTAMP:20260419T195524
CREATED:20240406T122435Z
LAST-MODIFIED:20240406T122435Z
UID:10001208-1816189200-1816196400@wythall-park.org.uk
SUMMARY:Slimming World
DESCRIPTION:If you’re thinking of joining us\, don’t miss out! Feel free to drop in\, you don’t have to book in advance\, just come along at the advertised time. \nGroup times\n\n\nWednesday weekly – 17:00 to 19:00 \nSpecial Offer – save £5 when you join up. \nSee some of our amazing attendees and their stories here.
URL:https://wythall-park.org.uk/event/slimming-world/2027-07-21/
LOCATION:Britannia Room\, Wythall Community Club\, 52 Silver Street\, Wythall\, Birmingham\, West Midlands\, B47 6LZ\, United Kingdom
CATEGORIES:Britannia Room
ATTACH;FMTTYPE=image/png:https://wythall-park.org.uk/wp-content/uploads/2024/04/slimming_world.png
END:VEVENT
END:VCALENDAR