BEGIN:VCALENDAR
VERSION:2.0
PRODID:-//Wythall Community Association and Park - ECPv6.15.20//NONSGML v1.0//EN
CALSCALE:GREGORIAN
METHOD:PUBLISH
X-ORIGINAL-URL:https://wythall-park.org.uk
X-WR-CALDESC:Events for Wythall Community Association and Park
REFRESH-INTERVAL;VALUE=DURATION:PT1H
X-Robots-Tag:noindex
X-PUBLISHED-TTL:PT1H
BEGIN:VTIMEZONE
TZID:Europe/London
BEGIN:DAYLIGHT
TZOFFSETFROM:+0000
TZOFFSETTO:+0100
TZNAME:BST
DTSTART:20240331T010000
END:DAYLIGHT
BEGIN:STANDARD
TZOFFSETFROM:+0100
TZOFFSETTO:+0000
TZNAME:GMT
DTSTART:20241027T010000
END:STANDARD
BEGIN:DAYLIGHT
TZOFFSETFROM:+0000
TZOFFSETTO:+0100
TZNAME:BST
DTSTART:20250330T010000
END:DAYLIGHT
BEGIN:STANDARD
TZOFFSETFROM:+0100
TZOFFSETTO:+0000
TZNAME:GMT
DTSTART:20251026T010000
END:STANDARD
BEGIN:DAYLIGHT
TZOFFSETFROM:+0000
TZOFFSETTO:+0100
TZNAME:BST
DTSTART:20260329T010000
END:DAYLIGHT
BEGIN:STANDARD
TZOFFSETFROM:+0100
TZOFFSETTO:+0000
TZNAME:GMT
DTSTART:20261025T010000
END:STANDARD
END:VTIMEZONE
BEGIN:VEVENT
DTSTART;TZID=Europe/London:20250401T200000
DTEND;TZID=Europe/London:20250401T230000
DTSTAMP:20260419T143412
CREATED:20231202T121700Z
LAST-MODIFIED:20241208T123303Z
UID:10000437-1743537600-1743548400@wythall-park.org.uk
SUMMARY:iDance - Modern Jive\, Salsa\, Tango\, Ballroom
DESCRIPTION:Dance Classes Every Tuesday Evening \n\n\n\n\n\nTimes:\n\n7.45pm Doors open\n8pm – 8.25pm Beginner class\n8.30pm – 9pm Intermediate class\n9pm – 11pm Freestyle\n\n\nEntry\n\n£8 / £3 (if already attended an iDance class night this week)\nStudents £8\nNew members £5\n\n\nFreestyle Events click HERE\n\n\n\n\n\nWith iDance classes\, we start by teaching the fundamentals of dance providing you with the skills necessary to start your\ndance journey with moves taken from a variety of different styles such as Salsa\, Tango\, Ballroom\, modern Jive and many others.\nOur classes are varied and we provide tuition for a range of abilities from absolute beginner through to experienced competitor.
URL:https://wythall-park.org.uk/event/idance-modern-jive-salsa-tango-ballroom-12/2025-04-01/
LOCATION:Park Hall\, 52 Silver Street\, Wythall\, Birmingham\, West Midlands\, B47 6LZ\, United Kingdom
CATEGORIES:Wythall Park
ATTACH;FMTTYPE=image/jpeg:https://wythall-park.org.uk/wp-content/uploads/2023/09/iDance.jpg
ORGANIZER;CN="iDance":MAILTO:info@i-dance.co.uk
END:VEVENT
BEGIN:VEVENT
DTSTART;TZID=Europe/London:20250408T200000
DTEND;TZID=Europe/London:20250408T230000
DTSTAMP:20260419T143412
CREATED:20231202T121700Z
LAST-MODIFIED:20241208T123303Z
UID:10000438-1744142400-1744153200@wythall-park.org.uk
SUMMARY:iDance - Modern Jive\, Salsa\, Tango\, Ballroom
DESCRIPTION:Dance Classes Every Tuesday Evening \n\n\n\n\n\nTimes:\n\n7.45pm Doors open\n8pm – 8.25pm Beginner class\n8.30pm – 9pm Intermediate class\n9pm – 11pm Freestyle\n\n\nEntry\n\n£8 / £3 (if already attended an iDance class night this week)\nStudents £8\nNew members £5\n\n\nFreestyle Events click HERE\n\n\n\n\n\nWith iDance classes\, we start by teaching the fundamentals of dance providing you with the skills necessary to start your\ndance journey with moves taken from a variety of different styles such as Salsa\, Tango\, Ballroom\, modern Jive and many others.\nOur classes are varied and we provide tuition for a range of abilities from absolute beginner through to experienced competitor.
URL:https://wythall-park.org.uk/event/idance-modern-jive-salsa-tango-ballroom-12/2025-04-08/
LOCATION:Park Hall\, 52 Silver Street\, Wythall\, Birmingham\, West Midlands\, B47 6LZ\, United Kingdom
CATEGORIES:Wythall Park
ATTACH;FMTTYPE=image/jpeg:https://wythall-park.org.uk/wp-content/uploads/2023/09/iDance.jpg
ORGANIZER;CN="iDance":MAILTO:info@i-dance.co.uk
END:VEVENT
BEGIN:VEVENT
DTSTART;TZID=Europe/London:20250412T200000
DTEND;TZID=Europe/London:20250412T230000
DTSTAMP:20260419T143412
CREATED:20250317T154518Z
LAST-MODIFIED:20250317T154518Z
UID:10002670-1744488000-1744498800@wythall-park.org.uk
SUMMARY:Smokey2 Country Music Club
DESCRIPTION:Celebrating over 50 years hosting the best live Country Music at Park Hall. \nAll Shows with resident DJ Johnny B. \nFully licenced bar. \nTea\, Coffee and Cakes available. \nRaffle and Door Draw every month.
URL:https://wythall-park.org.uk/event/smokey2-cmc/2025-04-12/
LOCATION:Park Hall\, 52 Silver Street\, Wythall\, Birmingham\, West Midlands\, B47 6LZ\, United Kingdom
CATEGORIES:Park Hall
ORGANIZER;CN="Weston Music":MAILTO:westonmusic@hotmail.com
END:VEVENT
BEGIN:VEVENT
DTSTART;TZID=Europe/London:20250415T200000
DTEND;TZID=Europe/London:20250415T230000
DTSTAMP:20260419T143412
CREATED:20231202T121700Z
LAST-MODIFIED:20241208T123303Z
UID:10000439-1744747200-1744758000@wythall-park.org.uk
SUMMARY:iDance - Modern Jive\, Salsa\, Tango\, Ballroom
DESCRIPTION:Dance Classes Every Tuesday Evening \n\n\n\n\n\nTimes:\n\n7.45pm Doors open\n8pm – 8.25pm Beginner class\n8.30pm – 9pm Intermediate class\n9pm – 11pm Freestyle\n\n\nEntry\n\n£8 / £3 (if already attended an iDance class night this week)\nStudents £8\nNew members £5\n\n\nFreestyle Events click HERE\n\n\n\n\n\nWith iDance classes\, we start by teaching the fundamentals of dance providing you with the skills necessary to start your\ndance journey with moves taken from a variety of different styles such as Salsa\, Tango\, Ballroom\, modern Jive and many others.\nOur classes are varied and we provide tuition for a range of abilities from absolute beginner through to experienced competitor.
URL:https://wythall-park.org.uk/event/idance-modern-jive-salsa-tango-ballroom-12/2025-04-15/
LOCATION:Park Hall\, 52 Silver Street\, Wythall\, Birmingham\, West Midlands\, B47 6LZ\, United Kingdom
CATEGORIES:Wythall Park
ATTACH;FMTTYPE=image/jpeg:https://wythall-park.org.uk/wp-content/uploads/2023/09/iDance.jpg
ORGANIZER;CN="iDance":MAILTO:info@i-dance.co.uk
END:VEVENT
BEGIN:VEVENT
DTSTART;TZID=Europe/London:20250422T200000
DTEND;TZID=Europe/London:20250422T230000
DTSTAMP:20260419T143412
CREATED:20231202T121700Z
LAST-MODIFIED:20241208T123303Z
UID:10000440-1745352000-1745362800@wythall-park.org.uk
SUMMARY:iDance - Modern Jive\, Salsa\, Tango\, Ballroom
DESCRIPTION:Dance Classes Every Tuesday Evening \n\n\n\n\n\nTimes:\n\n7.45pm Doors open\n8pm – 8.25pm Beginner class\n8.30pm – 9pm Intermediate class\n9pm – 11pm Freestyle\n\n\nEntry\n\n£8 / £3 (if already attended an iDance class night this week)\nStudents £8\nNew members £5\n\n\nFreestyle Events click HERE\n\n\n\n\n\nWith iDance classes\, we start by teaching the fundamentals of dance providing you with the skills necessary to start your\ndance journey with moves taken from a variety of different styles such as Salsa\, Tango\, Ballroom\, modern Jive and many others.\nOur classes are varied and we provide tuition for a range of abilities from absolute beginner through to experienced competitor.
URL:https://wythall-park.org.uk/event/idance-modern-jive-salsa-tango-ballroom-12/2025-04-22/
LOCATION:Park Hall\, 52 Silver Street\, Wythall\, Birmingham\, West Midlands\, B47 6LZ\, United Kingdom
CATEGORIES:Wythall Park
ATTACH;FMTTYPE=image/jpeg:https://wythall-park.org.uk/wp-content/uploads/2023/09/iDance.jpg
ORGANIZER;CN="iDance":MAILTO:info@i-dance.co.uk
END:VEVENT
BEGIN:VEVENT
DTSTART;TZID=Europe/London:20250429T200000
DTEND;TZID=Europe/London:20250429T230000
DTSTAMP:20260419T143412
CREATED:20231202T121700Z
LAST-MODIFIED:20241208T123303Z
UID:10000441-1745956800-1745967600@wythall-park.org.uk
SUMMARY:iDance - Modern Jive\, Salsa\, Tango\, Ballroom
DESCRIPTION:Dance Classes Every Tuesday Evening \n\n\n\n\n\nTimes:\n\n7.45pm Doors open\n8pm – 8.25pm Beginner class\n8.30pm – 9pm Intermediate class\n9pm – 11pm Freestyle\n\n\nEntry\n\n£8 / £3 (if already attended an iDance class night this week)\nStudents £8\nNew members £5\n\n\nFreestyle Events click HERE\n\n\n\n\n\nWith iDance classes\, we start by teaching the fundamentals of dance providing you with the skills necessary to start your\ndance journey with moves taken from a variety of different styles such as Salsa\, Tango\, Ballroom\, modern Jive and many others.\nOur classes are varied and we provide tuition for a range of abilities from absolute beginner through to experienced competitor.
URL:https://wythall-park.org.uk/event/idance-modern-jive-salsa-tango-ballroom-12/2025-04-29/
LOCATION:Park Hall\, 52 Silver Street\, Wythall\, Birmingham\, West Midlands\, B47 6LZ\, United Kingdom
CATEGORIES:Wythall Park
ATTACH;FMTTYPE=image/jpeg:https://wythall-park.org.uk/wp-content/uploads/2023/09/iDance.jpg
ORGANIZER;CN="iDance":MAILTO:info@i-dance.co.uk
END:VEVENT
END:VCALENDAR