BEGIN:VCALENDAR
VERSION:2.0
PRODID:-//Wythall Community Association and Park - ECPv6.15.20//NONSGML v1.0//EN
CALSCALE:GREGORIAN
METHOD:PUBLISH
X-WR-CALNAME:Wythall Community Association and Park
X-ORIGINAL-URL:https://wythall-park.org.uk
X-WR-CALDESC:Events for Wythall Community Association and Park
REFRESH-INTERVAL;VALUE=DURATION:PT1H
X-Robots-Tag:noindex
X-PUBLISHED-TTL:PT1H
BEGIN:VTIMEZONE
TZID:Europe/London
BEGIN:DAYLIGHT
TZOFFSETFROM:+0000
TZOFFSETTO:+0100
TZNAME:BST
DTSTART:20220327T010000
END:DAYLIGHT
BEGIN:STANDARD
TZOFFSETFROM:+0100
TZOFFSETTO:+0000
TZNAME:GMT
DTSTART:20221030T010000
END:STANDARD
BEGIN:DAYLIGHT
TZOFFSETFROM:+0000
TZOFFSETTO:+0100
TZNAME:BST
DTSTART:20230326T010000
END:DAYLIGHT
BEGIN:STANDARD
TZOFFSETFROM:+0100
TZOFFSETTO:+0000
TZNAME:GMT
DTSTART:20231029T010000
END:STANDARD
BEGIN:DAYLIGHT
TZOFFSETFROM:+0000
TZOFFSETTO:+0100
TZNAME:BST
DTSTART:20240331T010000
END:DAYLIGHT
BEGIN:STANDARD
TZOFFSETFROM:+0100
TZOFFSETTO:+0000
TZNAME:GMT
DTSTART:20241027T010000
END:STANDARD
BEGIN:DAYLIGHT
TZOFFSETFROM:+0000
TZOFFSETTO:+0100
TZNAME:BST
DTSTART:20250330T010000
END:DAYLIGHT
BEGIN:STANDARD
TZOFFSETFROM:+0100
TZOFFSETTO:+0000
TZNAME:GMT
DTSTART:20251026T010000
END:STANDARD
END:VTIMEZONE
BEGIN:VEVENT
DTSTART;TZID=Europe/London:20240608T200000
DTEND;TZID=Europe/London:20240608T230000
DTSTAMP:20260426T050359
CREATED:20230912T104155Z
LAST-MODIFIED:20240301T123035Z
UID:10000086-1717876800-1717887600@wythall-park.org.uk
SUMMARY:Smokey2 CMC - Featuring Ed Cox
DESCRIPTION:Celebrating 50 years hosting the best live Country Music at Park Hall. \nAll Shows with resident DJ Johnny B. \nFully licenced bar. \nTea\, Coffee and Cakes available. \nRaffle and Door Draw every month. \n \nFor 200 years\, RNLI volunteers have counted on kindness. \nToday\, they’re still braving wild waters to save people in need.\nWe’re delighted to let you know that we will be raising funds for the RNLI in 2024 through raffles and donations.
URL:https://wythall-park.org.uk/event/smokey2-cmc-featuring-ed-cox/
LOCATION:Park Hall\, 52 Silver Street\, Wythall\, Birmingham\, West Midlands\, B47 6LZ\, United Kingdom
CATEGORIES:Park Hall
ORGANIZER;CN="Smokey 2 CMC":MAILTO:smokeyray.packham@gmail.com
END:VEVENT
BEGIN:VEVENT
DTSTART;TZID=Europe/London:20240511T200000
DTEND;TZID=Europe/London:20240511T230000
DTSTAMP:20260426T050359
CREATED:20230912T103128Z
LAST-MODIFIED:20240301T123000Z
UID:10000085-1715457600-1715468400@wythall-park.org.uk
SUMMARY:Smokey2 CMC - Featuring Nigel Slater
DESCRIPTION:Celebrating 50 years hosting the best live Country Music at Park Hall. \nAll Shows with resident DJ Johnny B. \nFully licenced bar. \nTea\, Coffee and Cakes available. \nRaffle and Door Draw every month. \n \nFor 200 years\, RNLI volunteers have counted on kindness. \nToday\, they’re still braving wild waters to save people in need.\nWe’re delighted to let you know that we will be raising funds for the RNLI in 2024 through raffles and donations.
URL:https://wythall-park.org.uk/event/smokey2-cmc-featuring-nigel-slater/
LOCATION:Park Hall\, 52 Silver Street\, Wythall\, Birmingham\, West Midlands\, B47 6LZ\, United Kingdom
CATEGORIES:Park Hall
ORGANIZER;CN="Smokey 2 CMC":MAILTO:smokeyray.packham@gmail.com
END:VEVENT
BEGIN:VEVENT
DTSTART;TZID=Europe/London:20240413T200000
DTEND;TZID=Europe/London:20240413T230000
DTSTAMP:20260426T050359
CREATED:20230912T102814Z
LAST-MODIFIED:20240301T122904Z
UID:10000084-1713038400-1713049200@wythall-park.org.uk
SUMMARY:Smokey2 CMC - Featuring Cliff Weston
DESCRIPTION:Celebrating 50 years hosting the best live Country Music at Park Hall. \nAll Shows with resident DJ Johnny B. \nFully licenced bar. \nTea\, Coffee and Cakes available. \nRaffle and Door Draw every month. \n \nFor 200 years\, RNLI volunteers have counted on kindness. \nToday\, they’re still braving wild waters to save people in need.\nWe’re delighted to let you know that we will be raising funds for the RNLI in 2024 through raffles and donations.
URL:https://wythall-park.org.uk/event/smokey2-cmc-featuring-cliff-weston/
LOCATION:Park Hall\, 52 Silver Street\, Wythall\, Birmingham\, West Midlands\, B47 6LZ\, United Kingdom
CATEGORIES:Park Hall
ORGANIZER;CN="Smokey 2 CMC":MAILTO:smokeyray.packham@gmail.com
END:VEVENT
BEGIN:VEVENT
DTSTART;TZID=Europe/London:20240309T200000
DTEND;TZID=Europe/London:20240309T230000
DTSTAMP:20260426T050359
CREATED:20230912T102633Z
LAST-MODIFIED:20240301T122137Z
UID:10000083-1710014400-1710025200@wythall-park.org.uk
SUMMARY:Smokey2 CMC - Featuring Tony Crooks
DESCRIPTION:Celebrating 50 years hosting the best live Country Music at Park Hall. \nAll Shows with resident DJ Johnny B. \nFully licenced bar. \nTea\, Coffee and Cakes available. \nRaffle and Door Draw every month.\n\n\n\n\n\n\n\n\nFor 200 years\, RNLI volunteers have counted on kindness.\nToday\, they’re still braving wild waters to save people in need. We’re delighted to let you know that we will be raising funds for the RNLI in 2024 through raffles and donations.
URL:https://wythall-park.org.uk/event/smokey2-cmc-featuring-tony-crooks/
LOCATION:Park Hall\, 52 Silver Street\, Wythall\, Birmingham\, West Midlands\, B47 6LZ\, United Kingdom
CATEGORIES:Park Hall
ORGANIZER;CN="Smokey 2 CMC":MAILTO:smokeyray.packham@gmail.com
END:VEVENT
BEGIN:VEVENT
DTSTART;TZID=Europe/London:20240210T200000
DTEND;TZID=Europe/London:20240210T230000
DTSTAMP:20260426T050359
CREATED:20230912T102518Z
LAST-MODIFIED:20240301T122236Z
UID:10000082-1707595200-1707606000@wythall-park.org.uk
SUMMARY:Smokey2 CMC - John Doherty (50th Anniversary)
DESCRIPTION:Celebrating 50 years hosting the best live Country Music at Park Hall. \nAll Shows with resident DJ Johnny B. \nFully licenced bar. \nTea\, Coffee and Cakes available. \nRaffle and Door Draw every month.\n\n\n\n\n\n\n\n\nFor 200 years\, RNLI volunteers have counted on kindness.\nToday\, they’re still braving wild waters to save people in need. We’re delighted to let you know that we will be raising funds for the RNLI in 2024 through raffles and donations.
URL:https://wythall-park.org.uk/event/smokey2-cmc-john-doherty-50th-anniversary/
LOCATION:Park Hall\, 52 Silver Street\, Wythall\, Birmingham\, West Midlands\, B47 6LZ\, United Kingdom
CATEGORIES:Park Hall
ORGANIZER;CN="Smokey 2 CMC":MAILTO:smokeyray.packham@gmail.com
END:VEVENT
BEGIN:VEVENT
DTSTART;TZID=Europe/London:20240113T200000
DTEND;TZID=Europe/London:20240113T230000
DTSTAMP:20260426T050359
CREATED:20230912T102151Z
LAST-MODIFIED:20240301T122353Z
UID:10000081-1705176000-1705186800@wythall-park.org.uk
SUMMARY:Smokey2 CMC - Featuring Martin Jaye
DESCRIPTION:Celebrating 50 years hosting the best live Country Music at Park Hall. \nAll Shows with resident DJ Johnny B. \nFully licenced bar. \nTea\, Coffee and Cakes available. \nRaffle and Door Draw every month.\n\n\n\n\n\n\n\n\nFor 200 years\, RNLI volunteers have counted on kindness.\nToday\, they’re still braving wild waters to save people in need. \nWe’re delighted to let you know that we will be raising funds for the RNLI in 2024 through raffles and donations.
URL:https://wythall-park.org.uk/event/smokey2-cmc-featuring-martin-jaye/
LOCATION:Park Hall\, 52 Silver Street\, Wythall\, Birmingham\, West Midlands\, B47 6LZ\, United Kingdom
CATEGORIES:Park Hall
ORGANIZER;CN="Smokey 2 CMC":MAILTO:smokeyray.packham@gmail.com
END:VEVENT
BEGIN:VEVENT
DTSTART;TZID=Europe/London:20231223T183000
DTEND;TZID=Europe/London:20231223T230000
DTSTAMP:20260426T050359
CREATED:20230911T104444Z
LAST-MODIFIED:20230912T163116Z
UID:10000071-1703356200-1703372400@wythall-park.org.uk
SUMMARY:Smokey2 CMC- Johnny B's Big Birthday Bash
DESCRIPTION:Featuring guest KENNY Jr. \nThis is a ticket only event! \nCelebrating 49 years of live country music at Park Hall. \nDance or listen to the best music in 2023. \nAll shows feature DJ – Johnny B. \nFully licenced bar. \nTea\, coffee and cakes available. \nRaffle & Door Draw.
URL:https://wythall-park.org.uk/event/smokey2-cmc-johnny-bs-big-birthday-bash/
LOCATION:Park Hall\, 52 Silver Street\, Wythall\, Birmingham\, West Midlands\, B47 6LZ\, United Kingdom
CATEGORIES:Park Hall
ORGANIZER;CN="Smokey 2 CMC":MAILTO:smokeyray.packham@gmail.com
END:VEVENT
BEGIN:VEVENT
DTSTART;TZID=Europe/London:20231209T183000
DTEND;TZID=Europe/London:20231209T230000
DTSTAMP:20260426T050359
CREATED:20230911T103949Z
LAST-MODIFIED:20230912T162755Z
UID:10000070-1702146600-1702162800@wythall-park.org.uk
SUMMARY:Smokey2 CMC - Featuring the Texas Tornados (Christmas Show)
DESCRIPTION:Celebrating 49 years of live country music at Park Hall. \nDance or listen to the best music in 2023. \nAll shows feature DJ – Johnny B. \nFully licenced bar. \nTea\, coffee and cakes available. \nRaffle & Door Draw.
URL:https://wythall-park.org.uk/event/smokey2-cmc-christmas-show/
LOCATION:Park Hall\, 52 Silver Street\, Wythall\, Birmingham\, West Midlands\, B47 6LZ\, United Kingdom
CATEGORIES:Park Hall
ORGANIZER;CN="Smokey 2 CMC":MAILTO:smokeyray.packham@gmail.com
END:VEVENT
BEGIN:VEVENT
DTSTART;TZID=Europe/London:20231111T183000
DTEND;TZID=Europe/London:20231111T230000
DTSTAMP:20260426T050359
CREATED:20230911T103731Z
LAST-MODIFIED:20230912T162736Z
UID:10000069-1699727400-1699743600@wythall-park.org.uk
SUMMARY:Smokey2 CMC - Featuring Kay D
DESCRIPTION:Celebrating 49 years of live country music at Park Hall. \nDance or listen to the best music in 2023. \nAll shows feature DJ – Johnny B. \nFully licenced bar. \nTea\, coffee and cakes available. \nRaffle & Door Draw.
URL:https://wythall-park.org.uk/event/smokey2-cmc-featuring-kay-d/
LOCATION:Park Hall\, 52 Silver Street\, Wythall\, Birmingham\, West Midlands\, B47 6LZ\, United Kingdom
CATEGORIES:Park Hall
ORGANIZER;CN="Smokey 2 CMC":MAILTO:smokeyray.packham@gmail.com
END:VEVENT
BEGIN:VEVENT
DTSTART;TZID=Europe/London:20231014T183000
DTEND;TZID=Europe/London:20231014T230000
DTSTAMP:20260426T050359
CREATED:20230911T103517Z
LAST-MODIFIED:20230912T163721Z
UID:10000068-1697308200-1697324400@wythall-park.org.uk
SUMMARY:Smokey2 CMC - Featuring Daniel Berry
DESCRIPTION:Celebrating 49 years of live country music at Park Hall. \nDance or listen to the best music in 2023. \nAll shows feature DJ – Johnny B. \nFully licenced bar. \nTea\, coffee and cakes available. \nRaffle & Door Draw.
URL:https://wythall-park.org.uk/event/smokey2-cmc-featuring-daniel-berry/
LOCATION:Park Hall\, 52 Silver Street\, Wythall\, Birmingham\, West Midlands\, B47 6LZ\, United Kingdom
CATEGORIES:Park Hall
ORGANIZER;CN="Smokey 2 CMC":MAILTO:smokeyray.packham@gmail.com
END:VEVENT
BEGIN:VEVENT
DTSTART;TZID=Europe/London:20230930T183000
DTEND;TZID=Europe/London:20230930T230000
DTSTAMP:20260426T050359
CREATED:20230911T100051Z
LAST-MODIFIED:20230912T161827Z
UID:10000067-1696098600-1696114800@wythall-park.org.uk
SUMMARY:Smokey2 CMC - Featuring Nikki Jo Brown (Charity Night)
DESCRIPTION:Celebrating 49 years hosting the best live Country Music at Park Hall. \nAll Shows with resident DJ Johnny B. \nFully licenced bar. \nTea\, Coffee and Cakes available. \nRaffle and Door Draw every month.
URL:https://wythall-park.org.uk/event/smokey2-cmc-charity-night/
LOCATION:Park Hall\, 52 Silver Street\, Wythall\, Birmingham\, West Midlands\, B47 6LZ\, United Kingdom
CATEGORIES:Park Hall
ORGANIZER;CN="Smokey 2 CMC":MAILTO:smokeyray.packham@gmail.com
END:VEVENT
END:VCALENDAR