BEGIN:VCALENDAR
VERSION:2.0
PRODID:-//Wythall Community Association and Park - ECPv6.15.20//NONSGML v1.0//EN
CALSCALE:GREGORIAN
METHOD:PUBLISH
X-ORIGINAL-URL:https://wythall-park.org.uk
X-WR-CALDESC:Events for Wythall Community Association and Park
REFRESH-INTERVAL;VALUE=DURATION:PT1H
X-Robots-Tag:noindex
X-PUBLISHED-TTL:PT1H
BEGIN:VTIMEZONE
TZID:Europe/London
BEGIN:DAYLIGHT
TZOFFSETFROM:+0000
TZOFFSETTO:+0100
TZNAME:BST
DTSTART:20240331T010000
END:DAYLIGHT
BEGIN:STANDARD
TZOFFSETFROM:+0100
TZOFFSETTO:+0000
TZNAME:GMT
DTSTART:20241027T010000
END:STANDARD
BEGIN:DAYLIGHT
TZOFFSETFROM:+0000
TZOFFSETTO:+0100
TZNAME:BST
DTSTART:20250330T010000
END:DAYLIGHT
BEGIN:STANDARD
TZOFFSETFROM:+0100
TZOFFSETTO:+0000
TZNAME:GMT
DTSTART:20251026T010000
END:STANDARD
BEGIN:DAYLIGHT
TZOFFSETFROM:+0000
TZOFFSETTO:+0100
TZNAME:BST
DTSTART:20260329T010000
END:DAYLIGHT
BEGIN:STANDARD
TZOFFSETFROM:+0100
TZOFFSETTO:+0000
TZNAME:GMT
DTSTART:20261025T010000
END:STANDARD
END:VTIMEZONE
BEGIN:VEVENT
DTSTART;TZID=Europe/London:20250201T190000
DTEND;TZID=Europe/London:20250201T233000
DTSTAMP:20260423T004440
CREATED:20240409T114001Z
LAST-MODIFIED:20250131T123351Z
UID:10002085-1738436400-1738452600@wythall-park.org.uk
SUMMARY:George Michael Tribute Night
DESCRIPTION:George Michael Tribute Night\, Wythall Community Association\nJoin us for an unforgettable evening honouring the legendary George Michael at the Wythall Community Association with our George Michael Tribute Night. Get ready to dance\, sing\, and celebrate the music of one of the greatest pop icons of all time. \n \nEvent Details:\n\n\n\n\n\nDate: Saturday\, 1st February 2025\nTime: Doors Open at 7:00 PM\nLocation: Wythall Community Association\, Park Hall\, Wythall Park\, 52 Silver St\, Wythall\, Birmingham B47 6LZ\n\n\n\n\n\n\nTicket Information:\n\n\n\n\n\nGeneral Admission Tickets: £12.50\nFor ticket enquiries: please contact 0121 270 5886 or email tickets@tributenightpromotions.co.uk\n\n\n\n\n\nBook Now!\nAbout the Event:\nPrepare yourself for a fantastic night filled with nostalgia and incredible music. Whether you’re coming solo or with friends\, this tribute night promises to be an unforgettable experience. \nFor ticket enquiries please contact us at 0121 270 5886 / tickets@tributenightpromotions.co.uk \n\nEvent Highlights:\n\n\n\n\n\nExperience a fantastic night filled with the timeless hits of George Michael.\nWhether you come alone or with friends\, you’re guaranteed to have a great time.\nImmerse yourself in the electrifying atmosphere as we pay homage to one of music’s most iconic performers.\n\n\n\n\n\nDon’t miss out on this incredible tribute event! Book your tickets now and get ready to groove to the unforgettable sounds of George Michael. \nLocation\nWythall Community Association\, Park Hall\, Wythall Park\, 52 Silver St\, Wythall\, Birmingham B47 6LZ \nRoom: Park Hall \nEntertainment\nGeorge Michael Tribute Night \nItinerary\n\n\n\n\n\n7:00 pm Doors Open for ticket holders\n7:00 pm Disco begins\n8:30 pm George Michael Tribute*\n9:15 pm Interval/ Disco*\n9:45 pm George Michael Tribute*\n11:00 pm Last orders at the bar\n11:30 pm Night ends\n\n\n\n\n\n*Please note: Performance timings are approximate. \nBook Now!\n 
URL:https://wythall-park.org.uk/event/george-michael-tribute-night/
LOCATION:Park Hall\, 52 Silver Street\, Wythall\, Birmingham\, West Midlands\, B47 6LZ\, United Kingdom
CATEGORIES:Park Hall,Tribute Acts
ORGANIZER;CN="Tribute Night Promotions":MAILTO:tickets@tributenightpromotions.co.uk
END:VEVENT
END:VCALENDAR