BEGIN:VCALENDAR
VERSION:2.0
PRODID:-//Wythall Community Association and Park - ECPv6.15.20//NONSGML v1.0//EN
CALSCALE:GREGORIAN
METHOD:PUBLISH
X-WR-CALNAME:Wythall Community Association and Park
X-ORIGINAL-URL:https://wythall-park.org.uk
X-WR-CALDESC:Events for Wythall Community Association and Park
REFRESH-INTERVAL;VALUE=DURATION:PT1H
X-Robots-Tag:noindex
X-PUBLISHED-TTL:PT1H
BEGIN:VTIMEZONE
TZID:Europe/London
BEGIN:DAYLIGHT
TZOFFSETFROM:+0000
TZOFFSETTO:+0100
TZNAME:BST
DTSTART:20250330T010000
END:DAYLIGHT
BEGIN:STANDARD
TZOFFSETFROM:+0100
TZOFFSETTO:+0000
TZNAME:GMT
DTSTART:20251026T010000
END:STANDARD
BEGIN:DAYLIGHT
TZOFFSETFROM:+0000
TZOFFSETTO:+0100
TZNAME:BST
DTSTART:20260329T010000
END:DAYLIGHT
BEGIN:STANDARD
TZOFFSETFROM:+0100
TZOFFSETTO:+0000
TZNAME:GMT
DTSTART:20261025T010000
END:STANDARD
BEGIN:DAYLIGHT
TZOFFSETFROM:+0000
TZOFFSETTO:+0100
TZNAME:BST
DTSTART:20270328T010000
END:DAYLIGHT
BEGIN:STANDARD
TZOFFSETFROM:+0100
TZOFFSETTO:+0000
TZNAME:GMT
DTSTART:20271031T010000
END:STANDARD
END:VTIMEZONE
BEGIN:VEVENT
DTSTART;TZID=Europe/London:20260808T190000
DTEND;TZID=Europe/London:20260808T230000
DTSTAMP:20260421T134312
CREATED:20251214T111432Z
LAST-MODIFIED:20251214T111432Z
UID:10002686-1786215600-1786230000@wythall-park.org.uk
SUMMARY:Smokey2 Country Music Club Featuring Glenn Rogers
DESCRIPTION:Celebrating over 50 years hosting the best live Country Music at Park Hall. \nAll Shows with resident DJ Johnny B. \nFully licenced bar. \nTea\, Coffee and Cakes available. \nRaffle and Door Draw every month. \n£9 on the door including parking. \nDoors open 6.30pm \nArtistes subject to change without prior notice. \nIn conjunction with BWDA2000
URL:https://wythall-park.org.uk/event/smokey2-cmc-9/
LOCATION:Park Hall\, 52 Silver Street\, Wythall\, Birmingham\, West Midlands\, B47 6LZ\, United Kingdom
CATEGORIES:Park Hall
ATTACH;FMTTYPE=image/jpeg:https://wythall-park.org.uk/wp-content/uploads/2023/09/Smokey2-Country-Music-Club-logo-e1765898195235.jpg
ORGANIZER;CN="Weston Music":MAILTO:westonmusic@hotmail.com
END:VEVENT
BEGIN:VEVENT
DTSTART;TZID=Europe/London:20260831T130000
DTEND;TZID=Europe/London:20260831T223000
DTSTAMP:20260421T134312
CREATED:20251214T111746Z
LAST-MODIFIED:20251214T111746Z
UID:10003365-1788181200-1788215400@wythall-park.org.uk
SUMMARY:Weston Music presents Furbabies 9
DESCRIPTION:Country Music and Line Dance\n⭐ Charity Event ⭐\nLine Dance Tuition from Vikki Morris and Alexis Strong \nMusic provided by Country Music DJ- Johnny B \nActs include: \n\n\n\n\n\nTBC\n\n\n\n\n\nFacilities: \n\n\n\n\n\nDonation Station\nTea and Coffee\nCakes\nLicenced Bar\nLarge Raffle\n\n\n\n\n\nPay on the door just £15 including Free Parking. \nFor further information please contact Paul on 07772 508063. \nCharity Event: Furbabies Cat Rescue Registered Charity No 1175898.
URL:https://wythall-park.org.uk/event/weston-music-presents-furbabies-9/
LOCATION:Park Hall\, 52 Silver Street\, Wythall\, Birmingham\, West Midlands\, B47 6LZ\, United Kingdom
CATEGORIES:Furbabies,Park Hall
ORGANIZER;CN="Weston Music":MAILTO:westonmusic@hotmail.com
END:VEVENT
END:VCALENDAR