BEGIN:VCALENDAR
VERSION:2.0
PRODID:-//Wythall Community Association and Park - ECPv6.15.20//NONSGML v1.0//EN
CALSCALE:GREGORIAN
METHOD:PUBLISH
X-ORIGINAL-URL:https://wythall-park.org.uk
X-WR-CALDESC:Events for Wythall Community Association and Park
REFRESH-INTERVAL;VALUE=DURATION:PT1H
X-Robots-Tag:noindex
X-PUBLISHED-TTL:PT1H
BEGIN:VTIMEZONE
TZID:Europe/London
BEGIN:DAYLIGHT
TZOFFSETFROM:+0000
TZOFFSETTO:+0100
TZNAME:BST
DTSTART:20240331T010000
END:DAYLIGHT
BEGIN:STANDARD
TZOFFSETFROM:+0100
TZOFFSETTO:+0000
TZNAME:GMT
DTSTART:20241027T010000
END:STANDARD
BEGIN:DAYLIGHT
TZOFFSETFROM:+0000
TZOFFSETTO:+0100
TZNAME:BST
DTSTART:20250330T010000
END:DAYLIGHT
BEGIN:STANDARD
TZOFFSETFROM:+0100
TZOFFSETTO:+0000
TZNAME:GMT
DTSTART:20251026T010000
END:STANDARD
BEGIN:DAYLIGHT
TZOFFSETFROM:+0000
TZOFFSETTO:+0100
TZNAME:BST
DTSTART:20260329T010000
END:DAYLIGHT
BEGIN:STANDARD
TZOFFSETFROM:+0100
TZOFFSETTO:+0000
TZNAME:GMT
DTSTART:20261025T010000
END:STANDARD
END:VTIMEZONE
BEGIN:VEVENT
DTSTART;TZID=Europe/London:20250809T200000
DTEND;TZID=Europe/London:20250809T230000
DTSTAMP:20260419T152053
CREATED:20250317T154518Z
LAST-MODIFIED:20250317T154518Z
UID:10002674-1754769600-1754780400@wythall-park.org.uk
SUMMARY:Smokey2 Country Music Club
DESCRIPTION:Celebrating over 50 years hosting the best live Country Music at Park Hall. \nAll Shows with resident DJ Johnny B. \nFully licenced bar. \nTea\, Coffee and Cakes available. \nRaffle and Door Draw every month.
URL:https://wythall-park.org.uk/event/smokey2-cmc/2025-08-09/
LOCATION:Park Hall\, 52 Silver Street\, Wythall\, Birmingham\, West Midlands\, B47 6LZ\, United Kingdom
CATEGORIES:Park Hall
ORGANIZER;CN="Weston Music":MAILTO:westonmusic@hotmail.com
END:VEVENT
BEGIN:VEVENT
DTSTART;TZID=Europe/London:20250825T130000
DTEND;TZID=Europe/London:20250825T223000
DTSTAMP:20260419T152053
CREATED:20250515T131915Z
LAST-MODIFIED:20250515T133551Z
UID:10002803-1756126800-1756161000@wythall-park.org.uk
SUMMARY:Weston Music presents Furbabies 8
DESCRIPTION:Country Music and Line Dance\n⭐ Charity Event ⭐\nLine Dance Tuition from Vikki Morris and Alexis Strong \nMusic provided by Country Music DJ- Johnny B \nActs include: \n\n\n\n\n\nSpread Your Wings\nStreamline\nKenny Junior\nMartin Boyd\nKerry-Anne\n\n\n\n\n\nFacilities: \n\n\n\n\n\nDonation Station\nTea and Coffee\nCakes\nLicenced Bar\nLarge Raffle\n\n\n\n\n\nPay on the door just £15 including Free Parking. \nFor further information please contact Paul on 07772 508063. \nCharity Event: Furbabies Cat Rescue Registered Charity No 1175898.
URL:https://wythall-park.org.uk/event/weston-music-presents-furbabies-8/
LOCATION:Park Hall\, 52 Silver Street\, Wythall\, Birmingham\, West Midlands\, B47 6LZ\, United Kingdom
CATEGORIES:Furbabies,Park Hall
ORGANIZER;CN="Weston Music":MAILTO:westonmusic@hotmail.com
END:VEVENT
END:VCALENDAR