BEGIN:VCALENDAR
VERSION:2.0
PRODID:-//Wythall Community Association and Park - ECPv6.15.20//NONSGML v1.0//EN
CALSCALE:GREGORIAN
METHOD:PUBLISH
X-WR-CALNAME:Wythall Community Association and Park
X-ORIGINAL-URL:https://wythall-park.org.uk
X-WR-CALDESC:Events for Wythall Community Association and Park
REFRESH-INTERVAL;VALUE=DURATION:PT1H
X-Robots-Tag:noindex
X-PUBLISHED-TTL:PT1H
BEGIN:VTIMEZONE
TZID:Europe/London
BEGIN:DAYLIGHT
TZOFFSETFROM:+0000
TZOFFSETTO:+0100
TZNAME:BST
DTSTART:20280326T010000
END:DAYLIGHT
BEGIN:STANDARD
TZOFFSETFROM:+0100
TZOFFSETTO:+0000
TZNAME:GMT
DTSTART:20281029T010000
END:STANDARD
BEGIN:DAYLIGHT
TZOFFSETFROM:+0000
TZOFFSETTO:+0100
TZNAME:BST
DTSTART:20290325T010000
END:DAYLIGHT
BEGIN:STANDARD
TZOFFSETFROM:+0100
TZOFFSETTO:+0000
TZNAME:GMT
DTSTART:20291028T010000
END:STANDARD
BEGIN:DAYLIGHT
TZOFFSETFROM:+0000
TZOFFSETTO:+0100
TZNAME:BST
DTSTART:20300331T010000
END:DAYLIGHT
BEGIN:STANDARD
TZOFFSETFROM:+0100
TZOFFSETTO:+0000
TZNAME:GMT
DTSTART:20301027T010000
END:STANDARD
BEGIN:DAYLIGHT
TZOFFSETFROM:+0000
TZOFFSETTO:+0100
TZNAME:BST
DTSTART:20310330T010000
END:DAYLIGHT
BEGIN:STANDARD
TZOFFSETFROM:+0100
TZOFFSETTO:+0000
TZNAME:GMT
DTSTART:20311026T010000
END:STANDARD
END:VTIMEZONE
BEGIN:VEVENT
DTSTART;TZID=Europe/London:20290906T193000
DTEND;TZID=Europe/London:20290906T223000
DTSTAMP:20260421T100327
CREATED:20240406T123411Z
LAST-MODIFIED:20241030T153137Z
UID:10002565-1883417400-1883428200@wythall-park.org.uk
SUMMARY:Shirley And Wythall Chess Club
DESCRIPTION:Shirley & Wythall Chess Club is a friendly group of keen chess players. \nThe club has more than 40 members\, and competes in more than 20 leagues and cups every season. We field 5 teams in the Birmingham & District Chess League (BDCL)\, 4 teams in the Leamington & District Chess League (LDCL)\, hold club tournaments and host events throughout the year.  Home matches take place on Thursdays and Mondays. \nNewcomers of any ability\, age and gender are welcome to come and have a friendly game\, discuss their needs and chess aspirations. \nWe meet every Thursday from 7.30pm at Wythall House\, 52 Silver Street\, Wythall\, B47 6LZ \nShould you decide to become a member\, the annual subscription fee is as follows: \n\n\n\n\n\n£30 for adults\n£10 for under 18s\n\n\n\n\n\nThis does not include Bronze ECF membership (required in order to play league games).
URL:https://wythall-park.org.uk/event/shirley-and-wythall-chess-club/2029-09-06/
LOCATION:WCC Lounge Bar\, Wythall Community Club\, 52 Silver Street\, Wythall\, Birmingham\, West Midlands\, B47 6LZ\, United Kingdom
CATEGORIES:Lounge Bar
ATTACH;FMTTYPE=image/jpeg:https://wythall-park.org.uk/wp-content/uploads/2024/04/wythall-chess-club.jpg
ORGANIZER;CN="Gordon Christie":MAILTO:enquiries@shirleychess.org.uk
END:VEVENT
BEGIN:VEVENT
DTSTART;TZID=Europe/London:20290913T193000
DTEND;TZID=Europe/London:20290913T223000
DTSTAMP:20260421T100327
CREATED:20240406T123411Z
LAST-MODIFIED:20241030T153137Z
UID:10002570-1884022200-1884033000@wythall-park.org.uk
SUMMARY:Shirley And Wythall Chess Club
DESCRIPTION:Shirley & Wythall Chess Club is a friendly group of keen chess players. \nThe club has more than 40 members\, and competes in more than 20 leagues and cups every season. We field 5 teams in the Birmingham & District Chess League (BDCL)\, 4 teams in the Leamington & District Chess League (LDCL)\, hold club tournaments and host events throughout the year.  Home matches take place on Thursdays and Mondays. \nNewcomers of any ability\, age and gender are welcome to come and have a friendly game\, discuss their needs and chess aspirations. \nWe meet every Thursday from 7.30pm at Wythall House\, 52 Silver Street\, Wythall\, B47 6LZ \nShould you decide to become a member\, the annual subscription fee is as follows: \n\n\n\n\n\n£30 for adults\n£10 for under 18s\n\n\n\n\n\nThis does not include Bronze ECF membership (required in order to play league games).
URL:https://wythall-park.org.uk/event/shirley-and-wythall-chess-club/2029-09-13/
LOCATION:WCC Lounge Bar\, Wythall Community Club\, 52 Silver Street\, Wythall\, Birmingham\, West Midlands\, B47 6LZ\, United Kingdom
CATEGORIES:Lounge Bar
ATTACH;FMTTYPE=image/jpeg:https://wythall-park.org.uk/wp-content/uploads/2024/04/wythall-chess-club.jpg
ORGANIZER;CN="Gordon Christie":MAILTO:enquiries@shirleychess.org.uk
END:VEVENT
BEGIN:VEVENT
DTSTART;TZID=Europe/London:20290915T083000
DTEND;TZID=Europe/London:20290915T230000
DTSTAMP:20260421T100327
CREATED:20240406T110943Z
LAST-MODIFIED:20250528T104418Z
UID:10002587-1884155400-1884207600@wythall-park.org.uk
SUMMARY:Saturday Quiz Night
DESCRIPTION:Spot Prizes\nRaffle\nFamily Fun\nTeams are invited from 1 to 6 players\nPrize for the winning team\nThink of a team name.\nThe winners names will be published on our website and social media\nMembers and non-members are invited to join the quiz\n£6 per team entry fee payable on the night\nNon-members please see organisers on arrival
URL:https://wythall-park.org.uk/event/saturday-quiz-night/2029-09-15/
LOCATION:WCC Lounge Bar\, Wythall Community Club\, 52 Silver Street\, Wythall\, Birmingham\, West Midlands\, B47 6LZ\, United Kingdom
CATEGORIES:Lounge Bar,Quiz Night
ATTACH;FMTTYPE=image/png:https://wythall-park.org.uk/wp-content/uploads/2024/04/Quiz-Night-A4-No-Date.png
ORGANIZER;CN="Helen Cleaver":MAILTO:quiz@wythallcommunityclub.org.uk
END:VEVENT
BEGIN:VEVENT
DTSTART;TZID=Europe/London:20290920T193000
DTEND;TZID=Europe/London:20290920T223000
DTSTAMP:20260421T100327
CREATED:20240406T123411Z
LAST-MODIFIED:20241030T153137Z
UID:10002571-1884627000-1884637800@wythall-park.org.uk
SUMMARY:Shirley And Wythall Chess Club
DESCRIPTION:Shirley & Wythall Chess Club is a friendly group of keen chess players. \nThe club has more than 40 members\, and competes in more than 20 leagues and cups every season. We field 5 teams in the Birmingham & District Chess League (BDCL)\, 4 teams in the Leamington & District Chess League (LDCL)\, hold club tournaments and host events throughout the year.  Home matches take place on Thursdays and Mondays. \nNewcomers of any ability\, age and gender are welcome to come and have a friendly game\, discuss their needs and chess aspirations. \nWe meet every Thursday from 7.30pm at Wythall House\, 52 Silver Street\, Wythall\, B47 6LZ \nShould you decide to become a member\, the annual subscription fee is as follows: \n\n\n\n\n\n£30 for adults\n£10 for under 18s\n\n\n\n\n\nThis does not include Bronze ECF membership (required in order to play league games).
URL:https://wythall-park.org.uk/event/shirley-and-wythall-chess-club/2029-09-20/
LOCATION:WCC Lounge Bar\, Wythall Community Club\, 52 Silver Street\, Wythall\, Birmingham\, West Midlands\, B47 6LZ\, United Kingdom
CATEGORIES:Lounge Bar
ATTACH;FMTTYPE=image/jpeg:https://wythall-park.org.uk/wp-content/uploads/2024/04/wythall-chess-club.jpg
ORGANIZER;CN="Gordon Christie":MAILTO:enquiries@shirleychess.org.uk
END:VEVENT
BEGIN:VEVENT
DTSTART;TZID=Europe/London:20290927T193000
DTEND;TZID=Europe/London:20290927T223000
DTSTAMP:20260421T100327
CREATED:20240406T123411Z
LAST-MODIFIED:20241030T153137Z
UID:10002572-1885231800-1885242600@wythall-park.org.uk
SUMMARY:Shirley And Wythall Chess Club
DESCRIPTION:Shirley & Wythall Chess Club is a friendly group of keen chess players. \nThe club has more than 40 members\, and competes in more than 20 leagues and cups every season. We field 5 teams in the Birmingham & District Chess League (BDCL)\, 4 teams in the Leamington & District Chess League (LDCL)\, hold club tournaments and host events throughout the year.  Home matches take place on Thursdays and Mondays. \nNewcomers of any ability\, age and gender are welcome to come and have a friendly game\, discuss their needs and chess aspirations. \nWe meet every Thursday from 7.30pm at Wythall House\, 52 Silver Street\, Wythall\, B47 6LZ \nShould you decide to become a member\, the annual subscription fee is as follows: \n\n\n\n\n\n£30 for adults\n£10 for under 18s\n\n\n\n\n\nThis does not include Bronze ECF membership (required in order to play league games).
URL:https://wythall-park.org.uk/event/shirley-and-wythall-chess-club/2029-09-27/
LOCATION:WCC Lounge Bar\, Wythall Community Club\, 52 Silver Street\, Wythall\, Birmingham\, West Midlands\, B47 6LZ\, United Kingdom
CATEGORIES:Lounge Bar
ATTACH;FMTTYPE=image/jpeg:https://wythall-park.org.uk/wp-content/uploads/2024/04/wythall-chess-club.jpg
ORGANIZER;CN="Gordon Christie":MAILTO:enquiries@shirleychess.org.uk
END:VEVENT
BEGIN:VEVENT
DTSTART;TZID=Europe/London:20291004T193000
DTEND;TZID=Europe/London:20291004T223000
DTSTAMP:20260421T100327
CREATED:20240406T123411Z
LAST-MODIFIED:20241030T153137Z
UID:10002573-1885836600-1885847400@wythall-park.org.uk
SUMMARY:Shirley And Wythall Chess Club
DESCRIPTION:Shirley & Wythall Chess Club is a friendly group of keen chess players. \nThe club has more than 40 members\, and competes in more than 20 leagues and cups every season. We field 5 teams in the Birmingham & District Chess League (BDCL)\, 4 teams in the Leamington & District Chess League (LDCL)\, hold club tournaments and host events throughout the year.  Home matches take place on Thursdays and Mondays. \nNewcomers of any ability\, age and gender are welcome to come and have a friendly game\, discuss their needs and chess aspirations. \nWe meet every Thursday from 7.30pm at Wythall House\, 52 Silver Street\, Wythall\, B47 6LZ \nShould you decide to become a member\, the annual subscription fee is as follows: \n\n\n\n\n\n£30 for adults\n£10 for under 18s\n\n\n\n\n\nThis does not include Bronze ECF membership (required in order to play league games).
URL:https://wythall-park.org.uk/event/shirley-and-wythall-chess-club/2029-10-04/
LOCATION:WCC Lounge Bar\, Wythall Community Club\, 52 Silver Street\, Wythall\, Birmingham\, West Midlands\, B47 6LZ\, United Kingdom
CATEGORIES:Lounge Bar
ATTACH;FMTTYPE=image/jpeg:https://wythall-park.org.uk/wp-content/uploads/2024/04/wythall-chess-club.jpg
ORGANIZER;CN="Gordon Christie":MAILTO:enquiries@shirleychess.org.uk
END:VEVENT
BEGIN:VEVENT
DTSTART;TZID=Europe/London:20291011T193000
DTEND;TZID=Europe/London:20291011T223000
DTSTAMP:20260421T100327
CREATED:20240406T123411Z
LAST-MODIFIED:20241030T153137Z
UID:10002574-1886441400-1886452200@wythall-park.org.uk
SUMMARY:Shirley And Wythall Chess Club
DESCRIPTION:Shirley & Wythall Chess Club is a friendly group of keen chess players. \nThe club has more than 40 members\, and competes in more than 20 leagues and cups every season. We field 5 teams in the Birmingham & District Chess League (BDCL)\, 4 teams in the Leamington & District Chess League (LDCL)\, hold club tournaments and host events throughout the year.  Home matches take place on Thursdays and Mondays. \nNewcomers of any ability\, age and gender are welcome to come and have a friendly game\, discuss their needs and chess aspirations. \nWe meet every Thursday from 7.30pm at Wythall House\, 52 Silver Street\, Wythall\, B47 6LZ \nShould you decide to become a member\, the annual subscription fee is as follows: \n\n\n\n\n\n£30 for adults\n£10 for under 18s\n\n\n\n\n\nThis does not include Bronze ECF membership (required in order to play league games).
URL:https://wythall-park.org.uk/event/shirley-and-wythall-chess-club/2029-10-11/
LOCATION:WCC Lounge Bar\, Wythall Community Club\, 52 Silver Street\, Wythall\, Birmingham\, West Midlands\, B47 6LZ\, United Kingdom
CATEGORIES:Lounge Bar
ATTACH;FMTTYPE=image/jpeg:https://wythall-park.org.uk/wp-content/uploads/2024/04/wythall-chess-club.jpg
ORGANIZER;CN="Gordon Christie":MAILTO:enquiries@shirleychess.org.uk
END:VEVENT
BEGIN:VEVENT
DTSTART;TZID=Europe/London:20291018T193000
DTEND;TZID=Europe/London:20291018T223000
DTSTAMP:20260421T100327
CREATED:20240406T123411Z
LAST-MODIFIED:20241030T153137Z
UID:10002575-1887046200-1887057000@wythall-park.org.uk
SUMMARY:Shirley And Wythall Chess Club
DESCRIPTION:Shirley & Wythall Chess Club is a friendly group of keen chess players. \nThe club has more than 40 members\, and competes in more than 20 leagues and cups every season. We field 5 teams in the Birmingham & District Chess League (BDCL)\, 4 teams in the Leamington & District Chess League (LDCL)\, hold club tournaments and host events throughout the year.  Home matches take place on Thursdays and Mondays. \nNewcomers of any ability\, age and gender are welcome to come and have a friendly game\, discuss their needs and chess aspirations. \nWe meet every Thursday from 7.30pm at Wythall House\, 52 Silver Street\, Wythall\, B47 6LZ \nShould you decide to become a member\, the annual subscription fee is as follows: \n\n\n\n\n\n£30 for adults\n£10 for under 18s\n\n\n\n\n\nThis does not include Bronze ECF membership (required in order to play league games).
URL:https://wythall-park.org.uk/event/shirley-and-wythall-chess-club/2029-10-18/
LOCATION:WCC Lounge Bar\, Wythall Community Club\, 52 Silver Street\, Wythall\, Birmingham\, West Midlands\, B47 6LZ\, United Kingdom
CATEGORIES:Lounge Bar
ATTACH;FMTTYPE=image/jpeg:https://wythall-park.org.uk/wp-content/uploads/2024/04/wythall-chess-club.jpg
ORGANIZER;CN="Gordon Christie":MAILTO:enquiries@shirleychess.org.uk
END:VEVENT
BEGIN:VEVENT
DTSTART;TZID=Europe/London:20291020T083000
DTEND;TZID=Europe/London:20291020T230000
DTSTAMP:20260421T100327
CREATED:20240406T110943Z
LAST-MODIFIED:20250528T104418Z
UID:10002588-1887179400-1887231600@wythall-park.org.uk
SUMMARY:Saturday Quiz Night
DESCRIPTION:Spot Prizes\nRaffle\nFamily Fun\nTeams are invited from 1 to 6 players\nPrize for the winning team\nThink of a team name.\nThe winners names will be published on our website and social media\nMembers and non-members are invited to join the quiz\n£6 per team entry fee payable on the night\nNon-members please see organisers on arrival
URL:https://wythall-park.org.uk/event/saturday-quiz-night/2029-10-20/
LOCATION:WCC Lounge Bar\, Wythall Community Club\, 52 Silver Street\, Wythall\, Birmingham\, West Midlands\, B47 6LZ\, United Kingdom
CATEGORIES:Lounge Bar,Quiz Night
ATTACH;FMTTYPE=image/png:https://wythall-park.org.uk/wp-content/uploads/2024/04/Quiz-Night-A4-No-Date.png
ORGANIZER;CN="Helen Cleaver":MAILTO:quiz@wythallcommunityclub.org.uk
END:VEVENT
BEGIN:VEVENT
DTSTART;TZID=Europe/London:20291025T193000
DTEND;TZID=Europe/London:20291025T223000
DTSTAMP:20260421T100327
CREATED:20240406T123411Z
LAST-MODIFIED:20241030T153137Z
UID:10002576-1887651000-1887661800@wythall-park.org.uk
SUMMARY:Shirley And Wythall Chess Club
DESCRIPTION:Shirley & Wythall Chess Club is a friendly group of keen chess players. \nThe club has more than 40 members\, and competes in more than 20 leagues and cups every season. We field 5 teams in the Birmingham & District Chess League (BDCL)\, 4 teams in the Leamington & District Chess League (LDCL)\, hold club tournaments and host events throughout the year.  Home matches take place on Thursdays and Mondays. \nNewcomers of any ability\, age and gender are welcome to come and have a friendly game\, discuss their needs and chess aspirations. \nWe meet every Thursday from 7.30pm at Wythall House\, 52 Silver Street\, Wythall\, B47 6LZ \nShould you decide to become a member\, the annual subscription fee is as follows: \n\n\n\n\n\n£30 for adults\n£10 for under 18s\n\n\n\n\n\nThis does not include Bronze ECF membership (required in order to play league games).
URL:https://wythall-park.org.uk/event/shirley-and-wythall-chess-club/2029-10-25/
LOCATION:WCC Lounge Bar\, Wythall Community Club\, 52 Silver Street\, Wythall\, Birmingham\, West Midlands\, B47 6LZ\, United Kingdom
CATEGORIES:Lounge Bar
ATTACH;FMTTYPE=image/jpeg:https://wythall-park.org.uk/wp-content/uploads/2024/04/wythall-chess-club.jpg
ORGANIZER;CN="Gordon Christie":MAILTO:enquiries@shirleychess.org.uk
END:VEVENT
BEGIN:VEVENT
DTSTART;TZID=Europe/London:20291117T083000
DTEND;TZID=Europe/London:20291117T230000
DTSTAMP:20260421T100327
CREATED:20240406T110943Z
LAST-MODIFIED:20250528T104418Z
UID:10002589-1889598600-1889650800@wythall-park.org.uk
SUMMARY:Saturday Quiz Night
DESCRIPTION:Spot Prizes\nRaffle\nFamily Fun\nTeams are invited from 1 to 6 players\nPrize for the winning team\nThink of a team name.\nThe winners names will be published on our website and social media\nMembers and non-members are invited to join the quiz\n£6 per team entry fee payable on the night\nNon-members please see organisers on arrival
URL:https://wythall-park.org.uk/event/saturday-quiz-night/2029-11-17/
LOCATION:WCC Lounge Bar\, Wythall Community Club\, 52 Silver Street\, Wythall\, Birmingham\, West Midlands\, B47 6LZ\, United Kingdom
CATEGORIES:Lounge Bar,Quiz Night
ATTACH;FMTTYPE=image/png:https://wythall-park.org.uk/wp-content/uploads/2024/04/Quiz-Night-A4-No-Date.png
ORGANIZER;CN="Helen Cleaver":MAILTO:quiz@wythallcommunityclub.org.uk
END:VEVENT
BEGIN:VEVENT
DTSTART;TZID=Europe/London:20291215T083000
DTEND;TZID=Europe/London:20291215T230000
DTSTAMP:20260421T100327
CREATED:20240406T110943Z
LAST-MODIFIED:20250528T104418Z
UID:10002651-1892017800-1892070000@wythall-park.org.uk
SUMMARY:Saturday Quiz Night
DESCRIPTION:Spot Prizes\nRaffle\nFamily Fun\nTeams are invited from 1 to 6 players\nPrize for the winning team\nThink of a team name.\nThe winners names will be published on our website and social media\nMembers and non-members are invited to join the quiz\n£6 per team entry fee payable on the night\nNon-members please see organisers on arrival
URL:https://wythall-park.org.uk/event/saturday-quiz-night/2029-12-15/
LOCATION:WCC Lounge Bar\, Wythall Community Club\, 52 Silver Street\, Wythall\, Birmingham\, West Midlands\, B47 6LZ\, United Kingdom
CATEGORIES:Lounge Bar,Quiz Night
ATTACH;FMTTYPE=image/png:https://wythall-park.org.uk/wp-content/uploads/2024/04/Quiz-Night-A4-No-Date.png
ORGANIZER;CN="Helen Cleaver":MAILTO:quiz@wythallcommunityclub.org.uk
END:VEVENT
BEGIN:VEVENT
DTSTART;TZID=Europe/London:20300119T083000
DTEND;TZID=Europe/London:20300119T230000
DTSTAMP:20260421T100327
CREATED:20240406T110943Z
LAST-MODIFIED:20250528T104418Z
UID:10002652-1895041800-1895094000@wythall-park.org.uk
SUMMARY:Saturday Quiz Night
DESCRIPTION:Spot Prizes\nRaffle\nFamily Fun\nTeams are invited from 1 to 6 players\nPrize for the winning team\nThink of a team name.\nThe winners names will be published on our website and social media\nMembers and non-members are invited to join the quiz\n£6 per team entry fee payable on the night\nNon-members please see organisers on arrival
URL:https://wythall-park.org.uk/event/saturday-quiz-night/2030-01-19/
LOCATION:WCC Lounge Bar\, Wythall Community Club\, 52 Silver Street\, Wythall\, Birmingham\, West Midlands\, B47 6LZ\, United Kingdom
CATEGORIES:Lounge Bar,Quiz Night
ATTACH;FMTTYPE=image/png:https://wythall-park.org.uk/wp-content/uploads/2024/04/Quiz-Night-A4-No-Date.png
ORGANIZER;CN="Helen Cleaver":MAILTO:quiz@wythallcommunityclub.org.uk
END:VEVENT
BEGIN:VEVENT
DTSTART;TZID=Europe/London:20300216T083000
DTEND;TZID=Europe/London:20300216T230000
DTSTAMP:20260421T100327
CREATED:20240406T110943Z
LAST-MODIFIED:20250528T104418Z
UID:10002872-1897461000-1897513200@wythall-park.org.uk
SUMMARY:Saturday Quiz Night
DESCRIPTION:Spot Prizes\nRaffle\nFamily Fun\nTeams are invited from 1 to 6 players\nPrize for the winning team\nThink of a team name.\nThe winners names will be published on our website and social media\nMembers and non-members are invited to join the quiz\n£6 per team entry fee payable on the night\nNon-members please see organisers on arrival
URL:https://wythall-park.org.uk/event/saturday-quiz-night/2030-02-16/
LOCATION:WCC Lounge Bar\, Wythall Community Club\, 52 Silver Street\, Wythall\, Birmingham\, West Midlands\, B47 6LZ\, United Kingdom
CATEGORIES:Lounge Bar,Quiz Night
ATTACH;FMTTYPE=image/png:https://wythall-park.org.uk/wp-content/uploads/2024/04/Quiz-Night-A4-No-Date.png
ORGANIZER;CN="Helen Cleaver":MAILTO:quiz@wythallcommunityclub.org.uk
END:VEVENT
BEGIN:VEVENT
DTSTART;TZID=Europe/London:20300316T083000
DTEND;TZID=Europe/London:20300316T230000
DTSTAMP:20260421T100327
CREATED:20240406T110943Z
LAST-MODIFIED:20250528T104418Z
UID:10002873-1899880200-1899932400@wythall-park.org.uk
SUMMARY:Saturday Quiz Night
DESCRIPTION:Spot Prizes\nRaffle\nFamily Fun\nTeams are invited from 1 to 6 players\nPrize for the winning team\nThink of a team name.\nThe winners names will be published on our website and social media\nMembers and non-members are invited to join the quiz\n£6 per team entry fee payable on the night\nNon-members please see organisers on arrival
URL:https://wythall-park.org.uk/event/saturday-quiz-night/2030-03-16/
LOCATION:WCC Lounge Bar\, Wythall Community Club\, 52 Silver Street\, Wythall\, Birmingham\, West Midlands\, B47 6LZ\, United Kingdom
CATEGORIES:Lounge Bar,Quiz Night
ATTACH;FMTTYPE=image/png:https://wythall-park.org.uk/wp-content/uploads/2024/04/Quiz-Night-A4-No-Date.png
ORGANIZER;CN="Helen Cleaver":MAILTO:quiz@wythallcommunityclub.org.uk
END:VEVENT
BEGIN:VEVENT
DTSTART;TZID=Europe/London:20300420T083000
DTEND;TZID=Europe/London:20300420T230000
DTSTAMP:20260421T100327
CREATED:20240406T110943Z
LAST-MODIFIED:20250528T104418Z
UID:10002874-1902904200-1902956400@wythall-park.org.uk
SUMMARY:Saturday Quiz Night
DESCRIPTION:Spot Prizes\nRaffle\nFamily Fun\nTeams are invited from 1 to 6 players\nPrize for the winning team\nThink of a team name.\nThe winners names will be published on our website and social media\nMembers and non-members are invited to join the quiz\n£6 per team entry fee payable on the night\nNon-members please see organisers on arrival
URL:https://wythall-park.org.uk/event/saturday-quiz-night/2030-04-20/
LOCATION:WCC Lounge Bar\, Wythall Community Club\, 52 Silver Street\, Wythall\, Birmingham\, West Midlands\, B47 6LZ\, United Kingdom
CATEGORIES:Lounge Bar,Quiz Night
ATTACH;FMTTYPE=image/png:https://wythall-park.org.uk/wp-content/uploads/2024/04/Quiz-Night-A4-No-Date.png
ORGANIZER;CN="Helen Cleaver":MAILTO:quiz@wythallcommunityclub.org.uk
END:VEVENT
BEGIN:VEVENT
DTSTART;TZID=Europe/London:20300518T083000
DTEND;TZID=Europe/London:20300518T230000
DTSTAMP:20260421T100327
CREATED:20240406T110943Z
LAST-MODIFIED:20250528T104418Z
UID:10002875-1905323400-1905375600@wythall-park.org.uk
SUMMARY:Saturday Quiz Night
DESCRIPTION:Spot Prizes\nRaffle\nFamily Fun\nTeams are invited from 1 to 6 players\nPrize for the winning team\nThink of a team name.\nThe winners names will be published on our website and social media\nMembers and non-members are invited to join the quiz\n£6 per team entry fee payable on the night\nNon-members please see organisers on arrival
URL:https://wythall-park.org.uk/event/saturday-quiz-night/2030-05-18/
LOCATION:WCC Lounge Bar\, Wythall Community Club\, 52 Silver Street\, Wythall\, Birmingham\, West Midlands\, B47 6LZ\, United Kingdom
CATEGORIES:Lounge Bar,Quiz Night
ATTACH;FMTTYPE=image/png:https://wythall-park.org.uk/wp-content/uploads/2024/04/Quiz-Night-A4-No-Date.png
ORGANIZER;CN="Helen Cleaver":MAILTO:quiz@wythallcommunityclub.org.uk
END:VEVENT
END:VCALENDAR