BEGIN:VCALENDAR
VERSION:2.0
PRODID:-//Wythall Community Association and Park - ECPv6.15.20//NONSGML v1.0//EN
CALSCALE:GREGORIAN
METHOD:PUBLISH
X-ORIGINAL-URL:https://wythall-park.org.uk
X-WR-CALDESC:Events for Wythall Community Association and Park
REFRESH-INTERVAL;VALUE=DURATION:PT1H
X-Robots-Tag:noindex
X-PUBLISHED-TTL:PT1H
BEGIN:VTIMEZONE
TZID:Europe/London
BEGIN:DAYLIGHT
TZOFFSETFROM:+0000
TZOFFSETTO:+0100
TZNAME:BST
DTSTART:20230326T010000
END:DAYLIGHT
BEGIN:STANDARD
TZOFFSETFROM:+0100
TZOFFSETTO:+0000
TZNAME:GMT
DTSTART:20231029T010000
END:STANDARD
BEGIN:DAYLIGHT
TZOFFSETFROM:+0000
TZOFFSETTO:+0100
TZNAME:BST
DTSTART:20240331T010000
END:DAYLIGHT
BEGIN:STANDARD
TZOFFSETFROM:+0100
TZOFFSETTO:+0000
TZNAME:GMT
DTSTART:20241027T010000
END:STANDARD
BEGIN:DAYLIGHT
TZOFFSETFROM:+0000
TZOFFSETTO:+0100
TZNAME:BST
DTSTART:20250330T010000
END:DAYLIGHT
BEGIN:STANDARD
TZOFFSETFROM:+0100
TZOFFSETTO:+0000
TZNAME:GMT
DTSTART:20251026T010000
END:STANDARD
END:VTIMEZONE
BEGIN:VEVENT
DTSTART;TZID=Europe/London:20241228T180000
DTEND;TZID=Europe/London:20241228T203000
DTSTAMP:20260425T163635
CREATED:20241130T112209Z
LAST-MODIFIED:20241208T120401Z
UID:10002581-1735408800-1735417800@wythall-park.org.uk
SUMMARY:Festive Family Bingo Night
DESCRIPTION:GAMES – FUN – CASH PRIZES \nPop in for a game of Bingo from 6pm. \nNo admission fee. \nOpen to members and non-members. Non-members please see the organiser on arrival to be signed in. \nTickets available on the night.
URL:https://wythall-park.org.uk/event/festive-family-bingo-night/
LOCATION:WCC Lounge Bar\, Wythall Community Club\, 52 Silver Street\, Wythall\, Birmingham\, West Midlands\, B47 6LZ\, United Kingdom
CATEGORIES:Bingo,Lounge Bar
ORGANIZER;CN="Wythall Community Club":MAILTO:enquiries@wythallcommunityclub.org.uk
END:VEVENT
END:VCALENDAR