BEGIN:VCALENDAR
VERSION:2.0
PRODID:-//Wythall Community Association and Park - ECPv6.15.20//NONSGML v1.0//EN
CALSCALE:GREGORIAN
METHOD:PUBLISH
X-WR-CALNAME:Wythall Community Association and Park
X-ORIGINAL-URL:https://wythall-park.org.uk
X-WR-CALDESC:Events for Wythall Community Association and Park
REFRESH-INTERVAL;VALUE=DURATION:PT1H
X-Robots-Tag:noindex
X-PUBLISHED-TTL:PT1H
BEGIN:VTIMEZONE
TZID:Europe/London
BEGIN:DAYLIGHT
TZOFFSETFROM:+0000
TZOFFSETTO:+0100
TZNAME:BST
DTSTART:20240331T010000
END:DAYLIGHT
BEGIN:STANDARD
TZOFFSETFROM:+0100
TZOFFSETTO:+0000
TZNAME:GMT
DTSTART:20241027T010000
END:STANDARD
BEGIN:DAYLIGHT
TZOFFSETFROM:+0000
TZOFFSETTO:+0100
TZNAME:BST
DTSTART:20250330T010000
END:DAYLIGHT
BEGIN:STANDARD
TZOFFSETFROM:+0100
TZOFFSETTO:+0000
TZNAME:GMT
DTSTART:20251026T010000
END:STANDARD
BEGIN:DAYLIGHT
TZOFFSETFROM:+0000
TZOFFSETTO:+0100
TZNAME:BST
DTSTART:20260329T010000
END:DAYLIGHT
BEGIN:STANDARD
TZOFFSETFROM:+0100
TZOFFSETTO:+0000
TZNAME:GMT
DTSTART:20261025T010000
END:STANDARD
END:VTIMEZONE
BEGIN:VEVENT
DTSTART;TZID=Europe/London:20250605T180000
DTEND;TZID=Europe/London:20250605T190000
DTSTAMP:20260422T163147
CREATED:20240406T122905Z
LAST-MODIFIED:20240406T122905Z
UID:10001358-1749146400-1749150000@wythall-park.org.uk
SUMMARY:Wythall Martial Arts Club - Junior Jujitsu
DESCRIPTION:We are a Birmingham martial arts club teaching a mixture of self-defence and martial arts using a combination of Jujitsu\, Judo and Aikido\, catering for everyone interested in self defence\, from absolute beginners to high level black belt experts. Beeches is a family run club with 3 generations of family studying martial arts\, that’s over 40 years in total. \nClub Timetable and Classes (Wythall)\nThursdays – Junior jujitsu – 6:00pm  to 7:00pm ages 5 to 14 \nThursdays – Adult jujitsu – 7:00pm to 8:00pm ages 14+
URL:https://wythall-park.org.uk/event/wythall-martial-arts-club-junior-jujitsu/2025-06-05/
LOCATION:Britannia Room\, Wythall Community Club\, 52 Silver Street\, Wythall\, Birmingham\, West Midlands\, B47 6LZ\, United Kingdom
CATEGORIES:Britannia Room
ATTACH;FMTTYPE=image/png:https://wythall-park.org.uk/wp-content/uploads/2024/04/beeches-logo.png
END:VEVENT
BEGIN:VEVENT
DTSTART;TZID=Europe/London:20250605T190000
DTEND;TZID=Europe/London:20250605T200000
DTSTAMP:20260422T163147
CREATED:20240406T123043Z
LAST-MODIFIED:20240406T123043Z
UID:10001619-1749150000-1749153600@wythall-park.org.uk
SUMMARY:Wythall Martial Arts Club - Adult Jujitsu
DESCRIPTION:We are a Birmingham martial arts club teaching a mixture of self-defence and martial arts using a combination of Jujitsu\, Judo and Aikido\, catering for everyone interested in self defence\, from absolute beginners to high level black belt experts. Beeches is a family run club with 3 generations of family studying martial arts\, that’s over 40 years in total. \nClub Timetable and Classes (Wythall)\nThursdays – Junior jujitsu – 6:00pm  to 7:00pm ages 5 to 14 \nThursdays – Adult jujitsu – 7:00pm to 8:00pm ages 14+
URL:https://wythall-park.org.uk/event/wythall-martial-arts-club-adult-jujitsu/2025-06-05/
LOCATION:Britannia Room\, Wythall Community Club\, 52 Silver Street\, Wythall\, Birmingham\, West Midlands\, B47 6LZ\, United Kingdom
CATEGORIES:Britannia Room
ATTACH;FMTTYPE=image/png:https://wythall-park.org.uk/wp-content/uploads/2024/04/beeches-logo.png
END:VEVENT
BEGIN:VEVENT
DTSTART;TZID=Europe/London:20250605T210000
DTEND;TZID=Europe/London:20250605T230000
DTSTAMP:20260422T163147
CREATED:20250523T104905Z
LAST-MODIFIED:20250523T104943Z
UID:10002806-1749157200-1749164400@wythall-park.org.uk
SUMMARY:Summer Skittles
DESCRIPTION:Open to all Club Members and their guests. You don’t need to be in a team to play Summer Skittles as it’s an individuals event. \nPrize each week for the highest score. \nEntry fee £1 per person per week. \nNot a member? Come and meet the organiser to be signed in. \nPool and Darts also available.
URL:https://wythall-park.org.uk/event/summer-skittles-2/2025-06-05/
LOCATION:Britannia Room\, Wythall Community Club\, 52 Silver Street\, Wythall\, Birmingham\, West Midlands\, B47 6LZ\, United Kingdom
CATEGORIES:Britannia Room
ATTACH;FMTTYPE=image/png:https://wythall-park.org.uk/wp-content/uploads/2025/05/Summer-Skittles-2025.png
ORGANIZER;CN="Helen Cleaver":MAILTO:quiz@wythallcommunityclub.org.uk
END:VEVENT
END:VCALENDAR